BEGIN:VCALENDAR
VERSION:2.0
PRODID:-//Rogue Valley Lions Club - ECPv6.15.20//NONSGML v1.0//EN
CALSCALE:GREGORIAN
METHOD:PUBLISH
X-WR-CALNAME:Rogue Valley Lions Club
X-ORIGINAL-URL:https://roguevalleylions.org
X-WR-CALDESC:Events for Rogue Valley Lions Club
REFRESH-INTERVAL;VALUE=DURATION:PT1H
X-Robots-Tag:noindex
X-PUBLISHED-TTL:PT1H
BEGIN:VTIMEZONE
TZID:America/Los_Angeles
BEGIN:DAYLIGHT
TZOFFSETFROM:-0800
TZOFFSETTO:-0700
TZNAME:PDT
DTSTART:20250309T100000
END:DAYLIGHT
BEGIN:STANDARD
TZOFFSETFROM:-0700
TZOFFSETTO:-0800
TZNAME:PST
DTSTART:20251102T090000
END:STANDARD
BEGIN:DAYLIGHT
TZOFFSETFROM:-0800
TZOFFSETTO:-0700
TZNAME:PDT
DTSTART:20260308T100000
END:DAYLIGHT
BEGIN:STANDARD
TZOFFSETFROM:-0700
TZOFFSETTO:-0800
TZNAME:PST
DTSTART:20261101T090000
END:STANDARD
BEGIN:DAYLIGHT
TZOFFSETFROM:-0800
TZOFFSETTO:-0700
TZNAME:PDT
DTSTART:20270314T100000
END:DAYLIGHT
BEGIN:STANDARD
TZOFFSETFROM:-0700
TZOFFSETTO:-0800
TZNAME:PST
DTSTART:20271107T090000
END:STANDARD
END:VTIMEZONE
BEGIN:VEVENT
DTSTART;TZID=America/Los_Angeles:20260327T100000
DTEND;TZID=America/Los_Angeles:20260327T170000
DTSTAMP:20260419T155044
CREATED:20260225T223205Z
LAST-MODIFIED:20260225T223524Z
UID:10000495-1774605600-1774630800@roguevalleylions.org
SUMMARY:District 36-E Lions Convention
DESCRIPTION:
URL:https://roguevalleylions.org/event/district-36-e-lions-convention/2026-03-27/
LOCATION:Butte valley Community Center\, 52900 US-97\, Dporris\, CA\, 96023\, United States
END:VEVENT
END:VCALENDAR