BEGIN:VCALENDAR
VERSION:2.0
PRODID:-//Rogue Valley Lions Club - ECPv6.15.20//NONSGML v1.0//EN
CALSCALE:GREGORIAN
METHOD:PUBLISH
X-WR-CALNAME:Rogue Valley Lions Club
X-ORIGINAL-URL:https://roguevalleylions.org
X-WR-CALDESC:Events for Rogue Valley Lions Club
REFRESH-INTERVAL;VALUE=DURATION:PT1H
X-Robots-Tag:noindex
X-PUBLISHED-TTL:PT1H
BEGIN:VTIMEZONE
TZID:America/Los_Angeles
BEGIN:DAYLIGHT
TZOFFSETFROM:-0800
TZOFFSETTO:-0700
TZNAME:PDT
DTSTART:20250309T100000
END:DAYLIGHT
BEGIN:STANDARD
TZOFFSETFROM:-0700
TZOFFSETTO:-0800
TZNAME:PST
DTSTART:20251102T090000
END:STANDARD
BEGIN:DAYLIGHT
TZOFFSETFROM:-0800
TZOFFSETTO:-0700
TZNAME:PDT
DTSTART:20260308T100000
END:DAYLIGHT
BEGIN:STANDARD
TZOFFSETFROM:-0700
TZOFFSETTO:-0800
TZNAME:PST
DTSTART:20261101T090000
END:STANDARD
BEGIN:DAYLIGHT
TZOFFSETFROM:-0800
TZOFFSETTO:-0700
TZNAME:PDT
DTSTART:20270314T100000
END:DAYLIGHT
BEGIN:STANDARD
TZOFFSETFROM:-0700
TZOFFSETTO:-0800
TZNAME:PST
DTSTART:20271107T090000
END:STANDARD
END:VTIMEZONE
BEGIN:VEVENT
DTSTART;TZID=America/Los_Angeles:20260409T173000
DTEND;TZID=America/Los_Angeles:20260409T183000
DTSTAMP:20260419T191851
CREATED:20260312T171225Z
LAST-MODIFIED:20260312T171225Z
UID:10001403-1775755800-1775759400@roguevalleylions.org
SUMMARY:Wine Walk Committee Meeting
DESCRIPTION:
URL:https://roguevalleylions.org/event/wine-walk-committee-meeting-2/
LOCATION:Local Vines\, 900 N. Haskell\, Central Point\, OR\, 97501\, United States
END:VEVENT
BEGIN:VEVENT
DTSTART;TZID=America/Los_Angeles:20260408T180000
DTEND;TZID=America/Los_Angeles:20260408T200000
DTSTAMP:20260419T191851
CREATED:20260330T195617Z
LAST-MODIFIED:20260330T195617Z
UID:10001468-1775671200-1775678400@roguevalleylions.org
SUMMARY:Regular Monthly Meeting
DESCRIPTION:
URL:https://roguevalleylions.org/event/regular-monthly-meeting-4/
LOCATION:Black Bear Diner\, 1150 E Barnett Rd.\, Medford\, OR\, 97504\, United States
END:VEVENT
BEGIN:VEVENT
DTSTART;TZID=America/Los_Angeles:20260328T100000
DTEND;TZID=America/Los_Angeles:20260328T170000
DTSTAMP:20260419T191851
CREATED:20260225T223205Z
LAST-MODIFIED:20260225T223524Z
UID:10000496-1774692000-1774717200@roguevalleylions.org
SUMMARY:District 36-E Lions Convention
DESCRIPTION:
URL:https://roguevalleylions.org/event/district-36-e-lions-convention/2026-03-28/
LOCATION:Butte valley Community Center\, 52900 US-97\, Dporris\, CA\, 96023\, United States
END:VEVENT
BEGIN:VEVENT
DTSTART;TZID=America/Los_Angeles:20260327T100000
DTEND;TZID=America/Los_Angeles:20260327T170000
DTSTAMP:20260419T191851
CREATED:20260225T223205Z
LAST-MODIFIED:20260225T223524Z
UID:10000495-1774605600-1774630800@roguevalleylions.org
SUMMARY:District 36-E Lions Convention
DESCRIPTION:
URL:https://roguevalleylions.org/event/district-36-e-lions-convention/2026-03-27/
LOCATION:Butte valley Community Center\, 52900 US-97\, Dporris\, CA\, 96023\, United States
END:VEVENT
BEGIN:VEVENT
DTSTART;TZID=America/Los_Angeles:20260326T103000
DTEND;TZID=America/Los_Angeles:20260326T123000
DTSTAMP:20260419T191851
CREATED:20260225T215619Z
LAST-MODIFIED:20260303T023647Z
UID:10000922-1774521000-1774528200@roguevalleylions.org
SUMMARY:Sight and Hearing Center Monthly Board Meeting
DESCRIPTION:
URL:https://roguevalleylions.org/event/sight-and-hearing-center-monthly-board-meeting/2026-03-26/
LOCATION:Southern Oregon Lions Sight and Hearing Center\, 228 N. Holly St.\,\, Medford\, OR\, 97501\, United States
END:VEVENT
BEGIN:VEVENT
DTSTART;TZID=America/Los_Angeles:20260319T183000
DTEND;TZID=America/Los_Angeles:20260319T203000
DTSTAMP:20260419T191851
CREATED:20260305T200615Z
LAST-MODIFIED:20260310T220556Z
UID:10001396-1773945000-1773952200@roguevalleylions.org
SUMMARY:Quarterly Social Meeting
DESCRIPTION:
URL:https://roguevalleylions.org/event/quarterly-social-meeting/
LOCATION:Ferment and Fire\, 410 S. Front St.\, Central Point\, OR\, 97502\, United States
END:VEVENT
BEGIN:VEVENT
DTSTART;TZID=America/Los_Angeles:20260319T173000
DTEND;TZID=America/Los_Angeles:20260319T183000
DTSTAMP:20260419T191851
CREATED:20260225T221918Z
LAST-MODIFIED:20260312T170658Z
UID:10000494-1773941400-1773945000@roguevalleylions.org
SUMMARY:Wine Walk Committee
DESCRIPTION:
URL:https://roguevalleylions.org/event/wine-walk-committee/
LOCATION:Ferment and Fire\, 410 S. Front St.\, Central Point\, OR\, 97502\, United States
END:VEVENT
BEGIN:VEVENT
DTSTART;TZID=America/Los_Angeles:20260317T083000
DTEND;TZID=America/Los_Angeles:20260317T100000
DTSTAMP:20260419T191851
CREATED:20260316T212950Z
LAST-MODIFIED:20260316T212950Z
UID:10001404-1773736200-1773741600@roguevalleylions.org
SUMMARY:Central Point Chamber - Greeters
DESCRIPTION:
URL:https://roguevalleylions.org/event/central-point-chamber-greeters/
LOCATION:Pro Spine & Sport\, 62 N. 3rd St.\, Central Point\, OR\, 97502\, United States
END:VEVENT
BEGIN:VEVENT
DTSTART;TZID=America/Los_Angeles:20260313T173000
DTEND;TZID=America/Los_Angeles:20260313T203000
DTSTAMP:20260419T191851
CREATED:20260310T205634Z
LAST-MODIFIED:20260311T012422Z
UID:10001398-1773423000-1773433800@roguevalleylions.org
SUMMARY:New Heights Christian School Dinner-Auction
DESCRIPTION:
URL:https://roguevalleylions.org/event/new-heights-christian-school-dinner-auction/
LOCATION:New Heights Christian School\, 305 Oak St\, Central Point\, OR\, 97502\, United States
END:VEVENT
BEGIN:VEVENT
DTSTART;TZID=America/Los_Angeles:20260308T090000
DTEND;TZID=America/Los_Angeles:20260308T120000
DTSTAMP:20260419T191851
CREATED:20260305T061306Z
LAST-MODIFIED:20260305T061518Z
UID:10001395-1772960400-1772971200@roguevalleylions.org
SUMMARY:Old Stage Road Cleanup
DESCRIPTION:Meet at Pony Expresso\, then join up on Old Stage Road
URL:https://roguevalleylions.org/event/old-stage-road-cleanup/
LOCATION:Pony Expresso\, 545 N. 5th St.\, Jacksonville\, OR\, 97530\, United States
END:VEVENT
BEGIN:VEVENT
DTSTART;TZID=America/Los_Angeles:20260305T074500
DTEND;TZID=America/Los_Angeles:20260305T090000
DTSTAMP:20260419T191851
CREATED:20260305T055813Z
LAST-MODIFIED:20260305T055949Z
UID:10001394-1772696700-1772701200@roguevalleylions.org
SUMMARY:Medford Chamber of Commerce Greeters
DESCRIPTION:
URL:https://roguevalleylions.org/event/medford-chamber-of-commerce-greeters-2/
LOCATION:Girl Scouts of Oregon and Southwestr Washington\, 2001 N. Keene Way Dr.\, Medford\, OR\, 97504\, United States
END:VEVENT
BEGIN:VEVENT
DTSTART;TZID=America/Los_Angeles:20260304T180000
DTEND;TZID=America/Los_Angeles:20260304T200000
DTSTAMP:20260419T191851
CREATED:20260303T034254Z
LAST-MODIFIED:20260303T034716Z
UID:10001273-1772647200-1772654400@roguevalleylions.org
SUMMARY:Regular Monthly Meeting
DESCRIPTION:
URL:https://roguevalleylions.org/event/regular-monthly-meeting-2/2026-03-04/
LOCATION:Black Bear Diner\, 1150 E Barnett Rd.\, Medford\, OR\, 97504\, United States
END:VEVENT
END:VCALENDAR