BEGIN:VCALENDAR
VERSION:2.0
PRODID:-//Rogue Valley Lions Club - ECPv6.15.20//NONSGML v1.0//EN
CALSCALE:GREGORIAN
METHOD:PUBLISH
X-WR-CALNAME:Rogue Valley Lions Club
X-ORIGINAL-URL:https://roguevalleylions.org
X-WR-CALDESC:Events for Rogue Valley Lions Club
REFRESH-INTERVAL;VALUE=DURATION:PT1H
X-Robots-Tag:noindex
X-PUBLISHED-TTL:PT1H
BEGIN:VTIMEZONE
TZID:America/Los_Angeles
BEGIN:DAYLIGHT
TZOFFSETFROM:-0800
TZOFFSETTO:-0700
TZNAME:PDT
DTSTART:20280312T100000
END:DAYLIGHT
BEGIN:STANDARD
TZOFFSETFROM:-0700
TZOFFSETTO:-0800
TZNAME:PST
DTSTART:20281105T090000
END:STANDARD
BEGIN:DAYLIGHT
TZOFFSETFROM:-0800
TZOFFSETTO:-0700
TZNAME:PDT
DTSTART:20290311T100000
END:DAYLIGHT
BEGIN:STANDARD
TZOFFSETFROM:-0700
TZOFFSETTO:-0800
TZNAME:PST
DTSTART:20291104T090000
END:STANDARD
BEGIN:DAYLIGHT
TZOFFSETFROM:-0800
TZOFFSETTO:-0700
TZNAME:PDT
DTSTART:20300310T100000
END:DAYLIGHT
BEGIN:STANDARD
TZOFFSETFROM:-0700
TZOFFSETTO:-0800
TZNAME:PST
DTSTART:20301103T090000
END:STANDARD
BEGIN:DAYLIGHT
TZOFFSETFROM:-0800
TZOFFSETTO:-0700
TZNAME:PDT
DTSTART:20310309T100000
END:DAYLIGHT
BEGIN:STANDARD
TZOFFSETFROM:-0700
TZOFFSETTO:-0800
TZNAME:PST
DTSTART:20311102T090000
END:STANDARD
END:VTIMEZONE
BEGIN:VEVENT
DTSTART;TZID=America/Los_Angeles:20290815T180000
DTEND;TZID=America/Los_Angeles:20290815T200000
DTSTAMP:20260420T224542
CREATED:20260303T034001Z
LAST-MODIFIED:20260305T200221Z
UID:10001374-1881511200-1881518400@roguevalleylions.org
SUMMARY:Regular Monthly Meeting
DESCRIPTION:
URL:https://roguevalleylions.org/event/regular-monthly-meeting/2029-08-15/
LOCATION:Black Bear Diner\, 1150 E Barnett Rd.\, Medford\, OR\, 97504\, United States
END:VEVENT
BEGIN:VEVENT
DTSTART;TZID=America/Los_Angeles:20290830T103000
DTEND;TZID=America/Los_Angeles:20290830T123000
DTSTAMP:20260420T224542
CREATED:20260225T215619Z
LAST-MODIFIED:20260303T023647Z
UID:10000963-1882780200-1882787400@roguevalleylions.org
SUMMARY:Sight and Hearing Center Monthly Board Meeting
DESCRIPTION:
URL:https://roguevalleylions.org/event/sight-and-hearing-center-monthly-board-meeting/2029-08-30/
LOCATION:Southern Oregon Lions Sight and Hearing Center\, 228 N. Holly St.\,\, Medford\, OR\, 97501\, United States
END:VEVENT
BEGIN:VEVENT
DTSTART;TZID=America/Los_Angeles:20290905T180000
DTEND;TZID=America/Los_Angeles:20290905T200000
DTSTAMP:20260420T224542
CREATED:20260303T034254Z
LAST-MODIFIED:20260303T034716Z
UID:10001315-1883325600-1883332800@roguevalleylions.org
SUMMARY:Regular Monthly Meeting
DESCRIPTION:
URL:https://roguevalleylions.org/event/regular-monthly-meeting-2/2029-09-05/
LOCATION:Black Bear Diner\, 1150 E Barnett Rd.\, Medford\, OR\, 97504\, United States
END:VEVENT
BEGIN:VEVENT
DTSTART;TZID=America/Los_Angeles:20290919T180000
DTEND;TZID=America/Los_Angeles:20290919T200000
DTSTAMP:20260420T224542
CREATED:20260303T034001Z
LAST-MODIFIED:20260305T200221Z
UID:10001375-1884535200-1884542400@roguevalleylions.org
SUMMARY:Regular Monthly Meeting
DESCRIPTION:
URL:https://roguevalleylions.org/event/regular-monthly-meeting/2029-09-19/
LOCATION:Black Bear Diner\, 1150 E Barnett Rd.\, Medford\, OR\, 97504\, United States
END:VEVENT
BEGIN:VEVENT
DTSTART;TZID=America/Los_Angeles:20290927T103000
DTEND;TZID=America/Los_Angeles:20290927T123000
DTSTAMP:20260420T224542
CREATED:20260225T215619Z
LAST-MODIFIED:20260303T023647Z
UID:10000964-1885199400-1885206600@roguevalleylions.org
SUMMARY:Sight and Hearing Center Monthly Board Meeting
DESCRIPTION:
URL:https://roguevalleylions.org/event/sight-and-hearing-center-monthly-board-meeting/2029-09-27/
LOCATION:Southern Oregon Lions Sight and Hearing Center\, 228 N. Holly St.\,\, Medford\, OR\, 97501\, United States
END:VEVENT
BEGIN:VEVENT
DTSTART;TZID=America/Los_Angeles:20291003T180000
DTEND;TZID=America/Los_Angeles:20291003T200000
DTSTAMP:20260420T224542
CREATED:20260303T034254Z
LAST-MODIFIED:20260303T034716Z
UID:10001316-1885744800-1885752000@roguevalleylions.org
SUMMARY:Regular Monthly Meeting
DESCRIPTION:
URL:https://roguevalleylions.org/event/regular-monthly-meeting-2/2029-10-03/
LOCATION:Black Bear Diner\, 1150 E Barnett Rd.\, Medford\, OR\, 97504\, United States
END:VEVENT
BEGIN:VEVENT
DTSTART;TZID=America/Los_Angeles:20291017T180000
DTEND;TZID=America/Los_Angeles:20291017T200000
DTSTAMP:20260420T224542
CREATED:20260303T034001Z
LAST-MODIFIED:20260305T200221Z
UID:10001376-1886954400-1886961600@roguevalleylions.org
SUMMARY:Regular Monthly Meeting
DESCRIPTION:
URL:https://roguevalleylions.org/event/regular-monthly-meeting/2029-10-17/
LOCATION:Black Bear Diner\, 1150 E Barnett Rd.\, Medford\, OR\, 97504\, United States
END:VEVENT
BEGIN:VEVENT
DTSTART;TZID=America/Los_Angeles:20291025T103000
DTEND;TZID=America/Los_Angeles:20291025T123000
DTSTAMP:20260420T224542
CREATED:20260225T215619Z
LAST-MODIFIED:20260303T023647Z
UID:10000965-1887618600-1887625800@roguevalleylions.org
SUMMARY:Sight and Hearing Center Monthly Board Meeting
DESCRIPTION:
URL:https://roguevalleylions.org/event/sight-and-hearing-center-monthly-board-meeting/2029-10-25/
LOCATION:Southern Oregon Lions Sight and Hearing Center\, 228 N. Holly St.\,\, Medford\, OR\, 97501\, United States
END:VEVENT
BEGIN:VEVENT
DTSTART;TZID=America/Los_Angeles:20291107T180000
DTEND;TZID=America/Los_Angeles:20291107T200000
DTSTAMP:20260420T224542
CREATED:20260303T034254Z
LAST-MODIFIED:20260303T034716Z
UID:10001317-1888768800-1888776000@roguevalleylions.org
SUMMARY:Regular Monthly Meeting
DESCRIPTION:
URL:https://roguevalleylions.org/event/regular-monthly-meeting-2/2029-11-07/
LOCATION:Black Bear Diner\, 1150 E Barnett Rd.\, Medford\, OR\, 97504\, United States
END:VEVENT
BEGIN:VEVENT
DTSTART;TZID=America/Los_Angeles:20291121T180000
DTEND;TZID=America/Los_Angeles:20291121T200000
DTSTAMP:20260420T224542
CREATED:20260303T034001Z
LAST-MODIFIED:20260305T200221Z
UID:10001377-1889978400-1889985600@roguevalleylions.org
SUMMARY:Regular Monthly Meeting
DESCRIPTION:
URL:https://roguevalleylions.org/event/regular-monthly-meeting/2029-11-21/
LOCATION:Black Bear Diner\, 1150 E Barnett Rd.\, Medford\, OR\, 97504\, United States
END:VEVENT
BEGIN:VEVENT
DTSTART;TZID=America/Los_Angeles:20291129T103000
DTEND;TZID=America/Los_Angeles:20291129T123000
DTSTAMP:20260420T224542
CREATED:20260225T215619Z
LAST-MODIFIED:20260303T023647Z
UID:10000966-1890642600-1890649800@roguevalleylions.org
SUMMARY:Sight and Hearing Center Monthly Board Meeting
DESCRIPTION:
URL:https://roguevalleylions.org/event/sight-and-hearing-center-monthly-board-meeting/2029-11-29/
LOCATION:Southern Oregon Lions Sight and Hearing Center\, 228 N. Holly St.\,\, Medford\, OR\, 97501\, United States
END:VEVENT
BEGIN:VEVENT
DTSTART;TZID=America/Los_Angeles:20291205T180000
DTEND;TZID=America/Los_Angeles:20291205T200000
DTSTAMP:20260420T224542
CREATED:20260303T034254Z
LAST-MODIFIED:20260303T034716Z
UID:10001318-1891188000-1891195200@roguevalleylions.org
SUMMARY:Regular Monthly Meeting
DESCRIPTION:
URL:https://roguevalleylions.org/event/regular-monthly-meeting-2/2029-12-05/
LOCATION:Black Bear Diner\, 1150 E Barnett Rd.\, Medford\, OR\, 97504\, United States
END:VEVENT
BEGIN:VEVENT
DTSTART;TZID=America/Los_Angeles:20291219T180000
DTEND;TZID=America/Los_Angeles:20291219T200000
DTSTAMP:20260420T224542
CREATED:20260303T034001Z
LAST-MODIFIED:20260305T200221Z
UID:10001378-1892397600-1892404800@roguevalleylions.org
SUMMARY:Regular Monthly Meeting
DESCRIPTION:
URL:https://roguevalleylions.org/event/regular-monthly-meeting/2029-12-19/
LOCATION:Black Bear Diner\, 1150 E Barnett Rd.\, Medford\, OR\, 97504\, United States
END:VEVENT
BEGIN:VEVENT
DTSTART;TZID=America/Los_Angeles:20291227T103000
DTEND;TZID=America/Los_Angeles:20291227T123000
DTSTAMP:20260420T224542
CREATED:20260225T215619Z
LAST-MODIFIED:20260303T023647Z
UID:10000967-1893061800-1893069000@roguevalleylions.org
SUMMARY:Sight and Hearing Center Monthly Board Meeting
DESCRIPTION:
URL:https://roguevalleylions.org/event/sight-and-hearing-center-monthly-board-meeting/2029-12-27/
LOCATION:Southern Oregon Lions Sight and Hearing Center\, 228 N. Holly St.\,\, Medford\, OR\, 97501\, United States
END:VEVENT
BEGIN:VEVENT
DTSTART;TZID=America/Los_Angeles:20300102T180000
DTEND;TZID=America/Los_Angeles:20300102T200000
DTSTAMP:20260420T224542
CREATED:20260303T034254Z
LAST-MODIFIED:20260303T034716Z
UID:10001319-1893607200-1893614400@roguevalleylions.org
SUMMARY:Regular Monthly Meeting
DESCRIPTION:
URL:https://roguevalleylions.org/event/regular-monthly-meeting-2/2030-01-02/
LOCATION:Black Bear Diner\, 1150 E Barnett Rd.\, Medford\, OR\, 97504\, United States
END:VEVENT
BEGIN:VEVENT
DTSTART;TZID=America/Los_Angeles:20300116T180000
DTEND;TZID=America/Los_Angeles:20300116T200000
DTSTAMP:20260420T224542
CREATED:20260303T034001Z
LAST-MODIFIED:20260305T200221Z
UID:10001379-1894816800-1894824000@roguevalleylions.org
SUMMARY:Regular Monthly Meeting
DESCRIPTION:
URL:https://roguevalleylions.org/event/regular-monthly-meeting/2030-01-16/
LOCATION:Black Bear Diner\, 1150 E Barnett Rd.\, Medford\, OR\, 97504\, United States
END:VEVENT
BEGIN:VEVENT
DTSTART;TZID=America/Los_Angeles:20300131T103000
DTEND;TZID=America/Los_Angeles:20300131T123000
DTSTAMP:20260420T224542
CREATED:20260225T215619Z
LAST-MODIFIED:20260303T023647Z
UID:10000968-1896085800-1896093000@roguevalleylions.org
SUMMARY:Sight and Hearing Center Monthly Board Meeting
DESCRIPTION:
URL:https://roguevalleylions.org/event/sight-and-hearing-center-monthly-board-meeting/2030-01-31/
LOCATION:Southern Oregon Lions Sight and Hearing Center\, 228 N. Holly St.\,\, Medford\, OR\, 97501\, United States
END:VEVENT
BEGIN:VEVENT
DTSTART;TZID=America/Los_Angeles:20300206T180000
DTEND;TZID=America/Los_Angeles:20300206T200000
DTSTAMP:20260420T224542
CREATED:20260303T034254Z
LAST-MODIFIED:20260303T034716Z
UID:10001320-1896631200-1896638400@roguevalleylions.org
SUMMARY:Regular Monthly Meeting
DESCRIPTION:
URL:https://roguevalleylions.org/event/regular-monthly-meeting-2/2030-02-06/
LOCATION:Black Bear Diner\, 1150 E Barnett Rd.\, Medford\, OR\, 97504\, United States
END:VEVENT
BEGIN:VEVENT
DTSTART;TZID=America/Los_Angeles:20300220T180000
DTEND;TZID=America/Los_Angeles:20300220T200000
DTSTAMP:20260420T224542
CREATED:20260303T034001Z
LAST-MODIFIED:20260305T200221Z
UID:10001380-1897840800-1897848000@roguevalleylions.org
SUMMARY:Regular Monthly Meeting
DESCRIPTION:
URL:https://roguevalleylions.org/event/regular-monthly-meeting/2030-02-20/
LOCATION:Black Bear Diner\, 1150 E Barnett Rd.\, Medford\, OR\, 97504\, United States
END:VEVENT
BEGIN:VEVENT
DTSTART;TZID=America/Los_Angeles:20300228T103000
DTEND;TZID=America/Los_Angeles:20300228T123000
DTSTAMP:20260420T224542
CREATED:20260225T215619Z
LAST-MODIFIED:20260303T023647Z
UID:10000969-1898505000-1898512200@roguevalleylions.org
SUMMARY:Sight and Hearing Center Monthly Board Meeting
DESCRIPTION:
URL:https://roguevalleylions.org/event/sight-and-hearing-center-monthly-board-meeting/2030-02-28/
LOCATION:Southern Oregon Lions Sight and Hearing Center\, 228 N. Holly St.\,\, Medford\, OR\, 97501\, United States
END:VEVENT
BEGIN:VEVENT
DTSTART;TZID=America/Los_Angeles:20300306T180000
DTEND;TZID=America/Los_Angeles:20300306T200000
DTSTAMP:20260420T224542
CREATED:20260303T034254Z
LAST-MODIFIED:20260303T034716Z
UID:10001321-1899050400-1899057600@roguevalleylions.org
SUMMARY:Regular Monthly Meeting
DESCRIPTION:
URL:https://roguevalleylions.org/event/regular-monthly-meeting-2/2030-03-06/
LOCATION:Black Bear Diner\, 1150 E Barnett Rd.\, Medford\, OR\, 97504\, United States
END:VEVENT
BEGIN:VEVENT
DTSTART;TZID=America/Los_Angeles:20300320T180000
DTEND;TZID=America/Los_Angeles:20300320T200000
DTSTAMP:20260420T224542
CREATED:20260303T034001Z
LAST-MODIFIED:20260305T200221Z
UID:10001381-1900260000-1900267200@roguevalleylions.org
SUMMARY:Regular Monthly Meeting
DESCRIPTION:
URL:https://roguevalleylions.org/event/regular-monthly-meeting/2030-03-20/
LOCATION:Black Bear Diner\, 1150 E Barnett Rd.\, Medford\, OR\, 97504\, United States
END:VEVENT
BEGIN:VEVENT
DTSTART;TZID=America/Los_Angeles:20300328T103000
DTEND;TZID=America/Los_Angeles:20300328T123000
DTSTAMP:20260420T224542
CREATED:20260225T215619Z
LAST-MODIFIED:20260303T023647Z
UID:10000970-1900924200-1900931400@roguevalleylions.org
SUMMARY:Sight and Hearing Center Monthly Board Meeting
DESCRIPTION:
URL:https://roguevalleylions.org/event/sight-and-hearing-center-monthly-board-meeting/2030-03-28/
LOCATION:Southern Oregon Lions Sight and Hearing Center\, 228 N. Holly St.\,\, Medford\, OR\, 97501\, United States
END:VEVENT
BEGIN:VEVENT
DTSTART;TZID=America/Los_Angeles:20300403T180000
DTEND;TZID=America/Los_Angeles:20300403T200000
DTSTAMP:20260420T224542
CREATED:20260303T034254Z
LAST-MODIFIED:20260303T034716Z
UID:10001322-1901469600-1901476800@roguevalleylions.org
SUMMARY:Regular Monthly Meeting
DESCRIPTION:
URL:https://roguevalleylions.org/event/regular-monthly-meeting-2/2030-04-03/
LOCATION:Black Bear Diner\, 1150 E Barnett Rd.\, Medford\, OR\, 97504\, United States
END:VEVENT
BEGIN:VEVENT
DTSTART;TZID=America/Los_Angeles:20300417T180000
DTEND;TZID=America/Los_Angeles:20300417T200000
DTSTAMP:20260420T224542
CREATED:20260303T034001Z
LAST-MODIFIED:20260305T200221Z
UID:10001382-1902679200-1902686400@roguevalleylions.org
SUMMARY:Regular Monthly Meeting
DESCRIPTION:
URL:https://roguevalleylions.org/event/regular-monthly-meeting/2030-04-17/
LOCATION:Black Bear Diner\, 1150 E Barnett Rd.\, Medford\, OR\, 97504\, United States
END:VEVENT
BEGIN:VEVENT
DTSTART;TZID=America/Los_Angeles:20300425T103000
DTEND;TZID=America/Los_Angeles:20300425T123000
DTSTAMP:20260420T224542
CREATED:20260225T215619Z
LAST-MODIFIED:20260303T023647Z
UID:10000971-1903343400-1903350600@roguevalleylions.org
SUMMARY:Sight and Hearing Center Monthly Board Meeting
DESCRIPTION:
URL:https://roguevalleylions.org/event/sight-and-hearing-center-monthly-board-meeting/2030-04-25/
LOCATION:Southern Oregon Lions Sight and Hearing Center\, 228 N. Holly St.\,\, Medford\, OR\, 97501\, United States
END:VEVENT
BEGIN:VEVENT
DTSTART;TZID=America/Los_Angeles:20300501T180000
DTEND;TZID=America/Los_Angeles:20300501T200000
DTSTAMP:20260420T224542
CREATED:20260303T034254Z
LAST-MODIFIED:20260303T034716Z
UID:10001323-1903888800-1903896000@roguevalleylions.org
SUMMARY:Regular Monthly Meeting
DESCRIPTION:
URL:https://roguevalleylions.org/event/regular-monthly-meeting-2/2030-05-01/
LOCATION:Black Bear Diner\, 1150 E Barnett Rd.\, Medford\, OR\, 97504\, United States
END:VEVENT
BEGIN:VEVENT
DTSTART;TZID=America/Los_Angeles:20300515T180000
DTEND;TZID=America/Los_Angeles:20300515T200000
DTSTAMP:20260420T224542
CREATED:20260303T034001Z
LAST-MODIFIED:20260305T200221Z
UID:10001383-1905098400-1905105600@roguevalleylions.org
SUMMARY:Regular Monthly Meeting
DESCRIPTION:
URL:https://roguevalleylions.org/event/regular-monthly-meeting/2030-05-15/
LOCATION:Black Bear Diner\, 1150 E Barnett Rd.\, Medford\, OR\, 97504\, United States
END:VEVENT
BEGIN:VEVENT
DTSTART;TZID=America/Los_Angeles:20300530T103000
DTEND;TZID=America/Los_Angeles:20300530T123000
DTSTAMP:20260420T224542
CREATED:20260225T215619Z
LAST-MODIFIED:20260303T023647Z
UID:10000972-1906367400-1906374600@roguevalleylions.org
SUMMARY:Sight and Hearing Center Monthly Board Meeting
DESCRIPTION:
URL:https://roguevalleylions.org/event/sight-and-hearing-center-monthly-board-meeting/2030-05-30/
LOCATION:Southern Oregon Lions Sight and Hearing Center\, 228 N. Holly St.\,\, Medford\, OR\, 97501\, United States
END:VEVENT
BEGIN:VEVENT
DTSTART;TZID=America/Los_Angeles:20300605T180000
DTEND;TZID=America/Los_Angeles:20300605T200000
DTSTAMP:20260420T224542
CREATED:20260303T034254Z
LAST-MODIFIED:20260303T034716Z
UID:10001324-1906912800-1906920000@roguevalleylions.org
SUMMARY:Regular Monthly Meeting
DESCRIPTION:
URL:https://roguevalleylions.org/event/regular-monthly-meeting-2/2030-06-05/
LOCATION:Black Bear Diner\, 1150 E Barnett Rd.\, Medford\, OR\, 97504\, United States
END:VEVENT
END:VCALENDAR