BEGIN:VCALENDAR
VERSION:2.0
PRODID:-//Rogue Valley Lions Club - ECPv6.15.20//NONSGML v1.0//EN
CALSCALE:GREGORIAN
METHOD:PUBLISH
X-ORIGINAL-URL:https://roguevalleylions.org
X-WR-CALDESC:Events for Rogue Valley Lions Club
REFRESH-INTERVAL;VALUE=DURATION:PT1H
X-Robots-Tag:noindex
X-PUBLISHED-TTL:PT1H
BEGIN:VTIMEZONE
TZID:America/Los_Angeles
BEGIN:DAYLIGHT
TZOFFSETFROM:-0800
TZOFFSETTO:-0700
TZNAME:PDT
DTSTART:20250309T100000
END:DAYLIGHT
BEGIN:STANDARD
TZOFFSETFROM:-0700
TZOFFSETTO:-0800
TZNAME:PST
DTSTART:20251102T090000
END:STANDARD
BEGIN:DAYLIGHT
TZOFFSETFROM:-0800
TZOFFSETTO:-0700
TZNAME:PDT
DTSTART:20260308T100000
END:DAYLIGHT
BEGIN:STANDARD
TZOFFSETFROM:-0700
TZOFFSETTO:-0800
TZNAME:PST
DTSTART:20261101T090000
END:STANDARD
BEGIN:DAYLIGHT
TZOFFSETFROM:-0800
TZOFFSETTO:-0700
TZNAME:PDT
DTSTART:20270314T100000
END:DAYLIGHT
BEGIN:STANDARD
TZOFFSETFROM:-0700
TZOFFSETTO:-0800
TZNAME:PST
DTSTART:20271107T090000
END:STANDARD
BEGIN:DAYLIGHT
TZOFFSETFROM:-0800
TZOFFSETTO:-0700
TZNAME:PDT
DTSTART:20280312T100000
END:DAYLIGHT
BEGIN:STANDARD
TZOFFSETFROM:-0700
TZOFFSETTO:-0800
TZNAME:PST
DTSTART:20281105T090000
END:STANDARD
END:VTIMEZONE
BEGIN:VEVENT
DTSTART;TZID=America/Los_Angeles:20261029T103000
DTEND;TZID=America/Los_Angeles:20261029T123000
DTSTAMP:20260419T210056
CREATED:20260225T215619Z
LAST-MODIFIED:20260303T023647Z
UID:10000929-1793269800-1793277000@roguevalleylions.org
SUMMARY:Sight and Hearing Center Monthly Board Meeting
DESCRIPTION:
URL:https://roguevalleylions.org/event/sight-and-hearing-center-monthly-board-meeting/2026-10-29/
LOCATION:Southern Oregon Lions Sight and Hearing Center\, 228 N. Holly St.\,\, Medford\, OR\, 97501\, United States
END:VEVENT
BEGIN:VEVENT
DTSTART;TZID=America/Los_Angeles:20261104T180000
DTEND;TZID=America/Los_Angeles:20261104T200000
DTSTAMP:20260419T210056
CREATED:20260303T034254Z
LAST-MODIFIED:20260303T034716Z
UID:10001281-1793815200-1793822400@roguevalleylions.org
SUMMARY:Regular Monthly Meeting
DESCRIPTION:
URL:https://roguevalleylions.org/event/regular-monthly-meeting-2/2026-11-04/
LOCATION:Black Bear Diner\, 1150 E Barnett Rd.\, Medford\, OR\, 97504\, United States
END:VEVENT
BEGIN:VEVENT
DTSTART;TZID=America/Los_Angeles:20261118T180000
DTEND;TZID=America/Los_Angeles:20261118T200000
DTSTAMP:20260419T210056
CREATED:20260303T034001Z
LAST-MODIFIED:20260305T200221Z
UID:10001341-1795024800-1795032000@roguevalleylions.org
SUMMARY:Regular Monthly Meeting
DESCRIPTION:
URL:https://roguevalleylions.org/event/regular-monthly-meeting/2026-11-18/
LOCATION:Black Bear Diner\, 1150 E Barnett Rd.\, Medford\, OR\, 97504\, United States
END:VEVENT
BEGIN:VEVENT
DTSTART;TZID=America/Los_Angeles:20261126T103000
DTEND;TZID=America/Los_Angeles:20261126T123000
DTSTAMP:20260419T210056
CREATED:20260225T215619Z
LAST-MODIFIED:20260303T023647Z
UID:10000930-1795689000-1795696200@roguevalleylions.org
SUMMARY:Sight and Hearing Center Monthly Board Meeting
DESCRIPTION:
URL:https://roguevalleylions.org/event/sight-and-hearing-center-monthly-board-meeting/2026-11-26/
LOCATION:Southern Oregon Lions Sight and Hearing Center\, 228 N. Holly St.\,\, Medford\, OR\, 97501\, United States
END:VEVENT
BEGIN:VEVENT
DTSTART;TZID=America/Los_Angeles:20261202T180000
DTEND;TZID=America/Los_Angeles:20261202T200000
DTSTAMP:20260419T210056
CREATED:20260303T034254Z
LAST-MODIFIED:20260303T034716Z
UID:10001282-1796234400-1796241600@roguevalleylions.org
SUMMARY:Regular Monthly Meeting
DESCRIPTION:
URL:https://roguevalleylions.org/event/regular-monthly-meeting-2/2026-12-02/
LOCATION:Black Bear Diner\, 1150 E Barnett Rd.\, Medford\, OR\, 97504\, United States
END:VEVENT
BEGIN:VEVENT
DTSTART;TZID=America/Los_Angeles:20261216T180000
DTEND;TZID=America/Los_Angeles:20261216T200000
DTSTAMP:20260419T210056
CREATED:20260303T034001Z
LAST-MODIFIED:20260305T200221Z
UID:10001342-1797444000-1797451200@roguevalleylions.org
SUMMARY:Regular Monthly Meeting
DESCRIPTION:
URL:https://roguevalleylions.org/event/regular-monthly-meeting/2026-12-16/
LOCATION:Black Bear Diner\, 1150 E Barnett Rd.\, Medford\, OR\, 97504\, United States
END:VEVENT
BEGIN:VEVENT
DTSTART;TZID=America/Los_Angeles:20261231T103000
DTEND;TZID=America/Los_Angeles:20261231T123000
DTSTAMP:20260419T210056
CREATED:20260225T215619Z
LAST-MODIFIED:20260303T023647Z
UID:10000931-1798713000-1798720200@roguevalleylions.org
SUMMARY:Sight and Hearing Center Monthly Board Meeting
DESCRIPTION:
URL:https://roguevalleylions.org/event/sight-and-hearing-center-monthly-board-meeting/2026-12-31/
LOCATION:Southern Oregon Lions Sight and Hearing Center\, 228 N. Holly St.\,\, Medford\, OR\, 97501\, United States
END:VEVENT
BEGIN:VEVENT
DTSTART;TZID=America/Los_Angeles:20270106T180000
DTEND;TZID=America/Los_Angeles:20270106T200000
DTSTAMP:20260419T210056
CREATED:20260303T034254Z
LAST-MODIFIED:20260303T034716Z
UID:10001283-1799258400-1799265600@roguevalleylions.org
SUMMARY:Regular Monthly Meeting
DESCRIPTION:
URL:https://roguevalleylions.org/event/regular-monthly-meeting-2/2027-01-06/
LOCATION:Black Bear Diner\, 1150 E Barnett Rd.\, Medford\, OR\, 97504\, United States
END:VEVENT
BEGIN:VEVENT
DTSTART;TZID=America/Los_Angeles:20270120T180000
DTEND;TZID=America/Los_Angeles:20270120T200000
DTSTAMP:20260419T210056
CREATED:20260303T034001Z
LAST-MODIFIED:20260305T200221Z
UID:10001343-1800468000-1800475200@roguevalleylions.org
SUMMARY:Regular Monthly Meeting
DESCRIPTION:
URL:https://roguevalleylions.org/event/regular-monthly-meeting/2027-01-20/
LOCATION:Black Bear Diner\, 1150 E Barnett Rd.\, Medford\, OR\, 97504\, United States
END:VEVENT
BEGIN:VEVENT
DTSTART;TZID=America/Los_Angeles:20270128T103000
DTEND;TZID=America/Los_Angeles:20270128T123000
DTSTAMP:20260419T210056
CREATED:20260225T215619Z
LAST-MODIFIED:20260303T023647Z
UID:10000932-1801132200-1801139400@roguevalleylions.org
SUMMARY:Sight and Hearing Center Monthly Board Meeting
DESCRIPTION:
URL:https://roguevalleylions.org/event/sight-and-hearing-center-monthly-board-meeting/2027-01-28/
LOCATION:Southern Oregon Lions Sight and Hearing Center\, 228 N. Holly St.\,\, Medford\, OR\, 97501\, United States
END:VEVENT
BEGIN:VEVENT
DTSTART;TZID=America/Los_Angeles:20270203T180000
DTEND;TZID=America/Los_Angeles:20270203T200000
DTSTAMP:20260419T210056
CREATED:20260303T034254Z
LAST-MODIFIED:20260303T034716Z
UID:10001284-1801677600-1801684800@roguevalleylions.org
SUMMARY:Regular Monthly Meeting
DESCRIPTION:
URL:https://roguevalleylions.org/event/regular-monthly-meeting-2/2027-02-03/
LOCATION:Black Bear Diner\, 1150 E Barnett Rd.\, Medford\, OR\, 97504\, United States
END:VEVENT
BEGIN:VEVENT
DTSTART;TZID=America/Los_Angeles:20270217T180000
DTEND;TZID=America/Los_Angeles:20270217T200000
DTSTAMP:20260419T210056
CREATED:20260303T034001Z
LAST-MODIFIED:20260305T200221Z
UID:10001344-1802887200-1802894400@roguevalleylions.org
SUMMARY:Regular Monthly Meeting
DESCRIPTION:
URL:https://roguevalleylions.org/event/regular-monthly-meeting/2027-02-17/
LOCATION:Black Bear Diner\, 1150 E Barnett Rd.\, Medford\, OR\, 97504\, United States
END:VEVENT
BEGIN:VEVENT
DTSTART;TZID=America/Los_Angeles:20270225T103000
DTEND;TZID=America/Los_Angeles:20270225T123000
DTSTAMP:20260419T210056
CREATED:20260225T215619Z
LAST-MODIFIED:20260303T023647Z
UID:10000933-1803551400-1803558600@roguevalleylions.org
SUMMARY:Sight and Hearing Center Monthly Board Meeting
DESCRIPTION:
URL:https://roguevalleylions.org/event/sight-and-hearing-center-monthly-board-meeting/2027-02-25/
LOCATION:Southern Oregon Lions Sight and Hearing Center\, 228 N. Holly St.\,\, Medford\, OR\, 97501\, United States
END:VEVENT
BEGIN:VEVENT
DTSTART;TZID=America/Los_Angeles:20270303T180000
DTEND;TZID=America/Los_Angeles:20270303T200000
DTSTAMP:20260419T210056
CREATED:20260303T034254Z
LAST-MODIFIED:20260303T034716Z
UID:10001285-1804096800-1804104000@roguevalleylions.org
SUMMARY:Regular Monthly Meeting
DESCRIPTION:
URL:https://roguevalleylions.org/event/regular-monthly-meeting-2/2027-03-03/
LOCATION:Black Bear Diner\, 1150 E Barnett Rd.\, Medford\, OR\, 97504\, United States
END:VEVENT
BEGIN:VEVENT
DTSTART;TZID=America/Los_Angeles:20270317T180000
DTEND;TZID=America/Los_Angeles:20270317T200000
DTSTAMP:20260419T210056
CREATED:20260303T034001Z
LAST-MODIFIED:20260305T200221Z
UID:10001345-1805306400-1805313600@roguevalleylions.org
SUMMARY:Regular Monthly Meeting
DESCRIPTION:
URL:https://roguevalleylions.org/event/regular-monthly-meeting/2027-03-17/
LOCATION:Black Bear Diner\, 1150 E Barnett Rd.\, Medford\, OR\, 97504\, United States
END:VEVENT
BEGIN:VEVENT
DTSTART;TZID=America/Los_Angeles:20270325T103000
DTEND;TZID=America/Los_Angeles:20270325T123000
DTSTAMP:20260419T210056
CREATED:20260225T215619Z
LAST-MODIFIED:20260303T023647Z
UID:10000934-1805970600-1805977800@roguevalleylions.org
SUMMARY:Sight and Hearing Center Monthly Board Meeting
DESCRIPTION:
URL:https://roguevalleylions.org/event/sight-and-hearing-center-monthly-board-meeting/2027-03-25/
LOCATION:Southern Oregon Lions Sight and Hearing Center\, 228 N. Holly St.\,\, Medford\, OR\, 97501\, United States
END:VEVENT
BEGIN:VEVENT
DTSTART;TZID=America/Los_Angeles:20270407T180000
DTEND;TZID=America/Los_Angeles:20270407T200000
DTSTAMP:20260419T210056
CREATED:20260303T034254Z
LAST-MODIFIED:20260303T034716Z
UID:10001286-1807120800-1807128000@roguevalleylions.org
SUMMARY:Regular Monthly Meeting
DESCRIPTION:
URL:https://roguevalleylions.org/event/regular-monthly-meeting-2/2027-04-07/
LOCATION:Black Bear Diner\, 1150 E Barnett Rd.\, Medford\, OR\, 97504\, United States
END:VEVENT
BEGIN:VEVENT
DTSTART;TZID=America/Los_Angeles:20270421T180000
DTEND;TZID=America/Los_Angeles:20270421T200000
DTSTAMP:20260419T210056
CREATED:20260303T034001Z
LAST-MODIFIED:20260305T200221Z
UID:10001346-1808330400-1808337600@roguevalleylions.org
SUMMARY:Regular Monthly Meeting
DESCRIPTION:
URL:https://roguevalleylions.org/event/regular-monthly-meeting/2027-04-21/
LOCATION:Black Bear Diner\, 1150 E Barnett Rd.\, Medford\, OR\, 97504\, United States
END:VEVENT
BEGIN:VEVENT
DTSTART;TZID=America/Los_Angeles:20270429T103000
DTEND;TZID=America/Los_Angeles:20270429T123000
DTSTAMP:20260419T210056
CREATED:20260225T215619Z
LAST-MODIFIED:20260303T023647Z
UID:10000935-1808994600-1809001800@roguevalleylions.org
SUMMARY:Sight and Hearing Center Monthly Board Meeting
DESCRIPTION:
URL:https://roguevalleylions.org/event/sight-and-hearing-center-monthly-board-meeting/2027-04-29/
LOCATION:Southern Oregon Lions Sight and Hearing Center\, 228 N. Holly St.\,\, Medford\, OR\, 97501\, United States
END:VEVENT
BEGIN:VEVENT
DTSTART;TZID=America/Los_Angeles:20270505T180000
DTEND;TZID=America/Los_Angeles:20270505T200000
DTSTAMP:20260419T210056
CREATED:20260303T034254Z
LAST-MODIFIED:20260303T034716Z
UID:10001287-1809540000-1809547200@roguevalleylions.org
SUMMARY:Regular Monthly Meeting
DESCRIPTION:
URL:https://roguevalleylions.org/event/regular-monthly-meeting-2/2027-05-05/
LOCATION:Black Bear Diner\, 1150 E Barnett Rd.\, Medford\, OR\, 97504\, United States
END:VEVENT
BEGIN:VEVENT
DTSTART;TZID=America/Los_Angeles:20270519T180000
DTEND;TZID=America/Los_Angeles:20270519T200000
DTSTAMP:20260419T210056
CREATED:20260303T034001Z
LAST-MODIFIED:20260305T200221Z
UID:10001347-1810749600-1810756800@roguevalleylions.org
SUMMARY:Regular Monthly Meeting
DESCRIPTION:
URL:https://roguevalleylions.org/event/regular-monthly-meeting/2027-05-19/
LOCATION:Black Bear Diner\, 1150 E Barnett Rd.\, Medford\, OR\, 97504\, United States
END:VEVENT
BEGIN:VEVENT
DTSTART;TZID=America/Los_Angeles:20270527T103000
DTEND;TZID=America/Los_Angeles:20270527T123000
DTSTAMP:20260419T210056
CREATED:20260225T215619Z
LAST-MODIFIED:20260303T023647Z
UID:10000936-1811413800-1811421000@roguevalleylions.org
SUMMARY:Sight and Hearing Center Monthly Board Meeting
DESCRIPTION:
URL:https://roguevalleylions.org/event/sight-and-hearing-center-monthly-board-meeting/2027-05-27/
LOCATION:Southern Oregon Lions Sight and Hearing Center\, 228 N. Holly St.\,\, Medford\, OR\, 97501\, United States
END:VEVENT
BEGIN:VEVENT
DTSTART;TZID=America/Los_Angeles:20270602T180000
DTEND;TZID=America/Los_Angeles:20270602T200000
DTSTAMP:20260419T210056
CREATED:20260303T034254Z
LAST-MODIFIED:20260303T034716Z
UID:10001288-1811959200-1811966400@roguevalleylions.org
SUMMARY:Regular Monthly Meeting
DESCRIPTION:
URL:https://roguevalleylions.org/event/regular-monthly-meeting-2/2027-06-02/
LOCATION:Black Bear Diner\, 1150 E Barnett Rd.\, Medford\, OR\, 97504\, United States
END:VEVENT
BEGIN:VEVENT
DTSTART;TZID=America/Los_Angeles:20270616T180000
DTEND;TZID=America/Los_Angeles:20270616T200000
DTSTAMP:20260419T210056
CREATED:20260303T034001Z
LAST-MODIFIED:20260305T200221Z
UID:10001348-1813168800-1813176000@roguevalleylions.org
SUMMARY:Regular Monthly Meeting
DESCRIPTION:
URL:https://roguevalleylions.org/event/regular-monthly-meeting/2027-06-16/
LOCATION:Black Bear Diner\, 1150 E Barnett Rd.\, Medford\, OR\, 97504\, United States
END:VEVENT
BEGIN:VEVENT
DTSTART;TZID=America/Los_Angeles:20270624T103000
DTEND;TZID=America/Los_Angeles:20270624T123000
DTSTAMP:20260419T210056
CREATED:20260225T215619Z
LAST-MODIFIED:20260303T023647Z
UID:10000937-1813833000-1813840200@roguevalleylions.org
SUMMARY:Sight and Hearing Center Monthly Board Meeting
DESCRIPTION:
URL:https://roguevalleylions.org/event/sight-and-hearing-center-monthly-board-meeting/2027-06-24/
LOCATION:Southern Oregon Lions Sight and Hearing Center\, 228 N. Holly St.\,\, Medford\, OR\, 97501\, United States
END:VEVENT
BEGIN:VEVENT
DTSTART;TZID=America/Los_Angeles:20270707T180000
DTEND;TZID=America/Los_Angeles:20270707T200000
DTSTAMP:20260419T210056
CREATED:20260303T034254Z
LAST-MODIFIED:20260303T034716Z
UID:10001289-1814983200-1814990400@roguevalleylions.org
SUMMARY:Regular Monthly Meeting
DESCRIPTION:
URL:https://roguevalleylions.org/event/regular-monthly-meeting-2/2027-07-07/
LOCATION:Black Bear Diner\, 1150 E Barnett Rd.\, Medford\, OR\, 97504\, United States
END:VEVENT
BEGIN:VEVENT
DTSTART;TZID=America/Los_Angeles:20270721T180000
DTEND;TZID=America/Los_Angeles:20270721T200000
DTSTAMP:20260419T210056
CREATED:20260303T034001Z
LAST-MODIFIED:20260305T200221Z
UID:10001349-1816192800-1816200000@roguevalleylions.org
SUMMARY:Regular Monthly Meeting
DESCRIPTION:
URL:https://roguevalleylions.org/event/regular-monthly-meeting/2027-07-21/
LOCATION:Black Bear Diner\, 1150 E Barnett Rd.\, Medford\, OR\, 97504\, United States
END:VEVENT
BEGIN:VEVENT
DTSTART;TZID=America/Los_Angeles:20270729T103000
DTEND;TZID=America/Los_Angeles:20270729T123000
DTSTAMP:20260419T210056
CREATED:20260225T215619Z
LAST-MODIFIED:20260303T023647Z
UID:10000938-1816857000-1816864200@roguevalleylions.org
SUMMARY:Sight and Hearing Center Monthly Board Meeting
DESCRIPTION:
URL:https://roguevalleylions.org/event/sight-and-hearing-center-monthly-board-meeting/2027-07-29/
LOCATION:Southern Oregon Lions Sight and Hearing Center\, 228 N. Holly St.\,\, Medford\, OR\, 97501\, United States
END:VEVENT
BEGIN:VEVENT
DTSTART;TZID=America/Los_Angeles:20270804T180000
DTEND;TZID=America/Los_Angeles:20270804T200000
DTSTAMP:20260419T210056
CREATED:20260303T034254Z
LAST-MODIFIED:20260303T034716Z
UID:10001290-1817402400-1817409600@roguevalleylions.org
SUMMARY:Regular Monthly Meeting
DESCRIPTION:
URL:https://roguevalleylions.org/event/regular-monthly-meeting-2/2027-08-04/
LOCATION:Black Bear Diner\, 1150 E Barnett Rd.\, Medford\, OR\, 97504\, United States
END:VEVENT
BEGIN:VEVENT
DTSTART;TZID=America/Los_Angeles:20270818T180000
DTEND;TZID=America/Los_Angeles:20270818T200000
DTSTAMP:20260419T210056
CREATED:20260303T034001Z
LAST-MODIFIED:20260305T200221Z
UID:10001350-1818612000-1818619200@roguevalleylions.org
SUMMARY:Regular Monthly Meeting
DESCRIPTION:
URL:https://roguevalleylions.org/event/regular-monthly-meeting/2027-08-18/
LOCATION:Black Bear Diner\, 1150 E Barnett Rd.\, Medford\, OR\, 97504\, United States
END:VEVENT
END:VCALENDAR