BEGIN:VCALENDAR
VERSION:2.0
PRODID:-//Rogue Valley Lions Club - ECPv6.15.20//NONSGML v1.0//EN
CALSCALE:GREGORIAN
METHOD:PUBLISH
X-WR-CALNAME:Rogue Valley Lions Club
X-ORIGINAL-URL:https://roguevalleylions.org
X-WR-CALDESC:Events for Rogue Valley Lions Club
REFRESH-INTERVAL;VALUE=DURATION:PT1H
X-Robots-Tag:noindex
X-PUBLISHED-TTL:PT1H
BEGIN:VTIMEZONE
TZID:America/Los_Angeles
BEGIN:DAYLIGHT
TZOFFSETFROM:-0800
TZOFFSETTO:-0700
TZNAME:PDT
DTSTART:20270314T100000
END:DAYLIGHT
BEGIN:STANDARD
TZOFFSETFROM:-0700
TZOFFSETTO:-0800
TZNAME:PST
DTSTART:20271107T090000
END:STANDARD
BEGIN:DAYLIGHT
TZOFFSETFROM:-0800
TZOFFSETTO:-0700
TZNAME:PDT
DTSTART:20280312T100000
END:DAYLIGHT
BEGIN:STANDARD
TZOFFSETFROM:-0700
TZOFFSETTO:-0800
TZNAME:PST
DTSTART:20281105T090000
END:STANDARD
BEGIN:DAYLIGHT
TZOFFSETFROM:-0800
TZOFFSETTO:-0700
TZNAME:PDT
DTSTART:20290311T100000
END:DAYLIGHT
BEGIN:STANDARD
TZOFFSETFROM:-0700
TZOFFSETTO:-0800
TZNAME:PST
DTSTART:20291104T090000
END:STANDARD
END:VTIMEZONE
BEGIN:VEVENT
DTSTART;TZID=America/Los_Angeles:20280105T180000
DTEND;TZID=America/Los_Angeles:20280105T200000
DTSTAMP:20260420T122805
CREATED:20260303T034254Z
LAST-MODIFIED:20260303T034716Z
UID:10001295-1830708000-1830715200@roguevalleylions.org
SUMMARY:Regular Monthly Meeting
DESCRIPTION:
URL:https://roguevalleylions.org/event/regular-monthly-meeting-2/2028-01-05/
LOCATION:Black Bear Diner\, 1150 E Barnett Rd.\, Medford\, OR\, 97504\, United States
END:VEVENT
BEGIN:VEVENT
DTSTART;TZID=America/Los_Angeles:20280119T180000
DTEND;TZID=America/Los_Angeles:20280119T200000
DTSTAMP:20260420T122805
CREATED:20260303T034001Z
LAST-MODIFIED:20260305T200221Z
UID:10001355-1831917600-1831924800@roguevalleylions.org
SUMMARY:Regular Monthly Meeting
DESCRIPTION:
URL:https://roguevalleylions.org/event/regular-monthly-meeting/2028-01-19/
LOCATION:Black Bear Diner\, 1150 E Barnett Rd.\, Medford\, OR\, 97504\, United States
END:VEVENT
BEGIN:VEVENT
DTSTART;TZID=America/Los_Angeles:20280127T103000
DTEND;TZID=America/Los_Angeles:20280127T123000
DTSTAMP:20260420T122805
CREATED:20260225T215619Z
LAST-MODIFIED:20260303T023647Z
UID:10000944-1832581800-1832589000@roguevalleylions.org
SUMMARY:Sight and Hearing Center Monthly Board Meeting
DESCRIPTION:
URL:https://roguevalleylions.org/event/sight-and-hearing-center-monthly-board-meeting/2028-01-27/
LOCATION:Southern Oregon Lions Sight and Hearing Center\, 228 N. Holly St.\,\, Medford\, OR\, 97501\, United States
END:VEVENT
BEGIN:VEVENT
DTSTART;TZID=America/Los_Angeles:20280202T180000
DTEND;TZID=America/Los_Angeles:20280202T200000
DTSTAMP:20260420T122805
CREATED:20260303T034254Z
LAST-MODIFIED:20260303T034716Z
UID:10001296-1833127200-1833134400@roguevalleylions.org
SUMMARY:Regular Monthly Meeting
DESCRIPTION:
URL:https://roguevalleylions.org/event/regular-monthly-meeting-2/2028-02-02/
LOCATION:Black Bear Diner\, 1150 E Barnett Rd.\, Medford\, OR\, 97504\, United States
END:VEVENT
BEGIN:VEVENT
DTSTART;TZID=America/Los_Angeles:20280216T180000
DTEND;TZID=America/Los_Angeles:20280216T200000
DTSTAMP:20260420T122805
CREATED:20260303T034001Z
LAST-MODIFIED:20260305T200221Z
UID:10001356-1834336800-1834344000@roguevalleylions.org
SUMMARY:Regular Monthly Meeting
DESCRIPTION:
URL:https://roguevalleylions.org/event/regular-monthly-meeting/2028-02-16/
LOCATION:Black Bear Diner\, 1150 E Barnett Rd.\, Medford\, OR\, 97504\, United States
END:VEVENT
BEGIN:VEVENT
DTSTART;TZID=America/Los_Angeles:20280224T103000
DTEND;TZID=America/Los_Angeles:20280224T123000
DTSTAMP:20260420T122805
CREATED:20260225T215619Z
LAST-MODIFIED:20260303T023647Z
UID:10000945-1835001000-1835008200@roguevalleylions.org
SUMMARY:Sight and Hearing Center Monthly Board Meeting
DESCRIPTION:
URL:https://roguevalleylions.org/event/sight-and-hearing-center-monthly-board-meeting/2028-02-24/
LOCATION:Southern Oregon Lions Sight and Hearing Center\, 228 N. Holly St.\,\, Medford\, OR\, 97501\, United States
END:VEVENT
BEGIN:VEVENT
DTSTART;TZID=America/Los_Angeles:20280301T180000
DTEND;TZID=America/Los_Angeles:20280301T200000
DTSTAMP:20260420T122805
CREATED:20260303T034254Z
LAST-MODIFIED:20260303T034716Z
UID:10001297-1835546400-1835553600@roguevalleylions.org
SUMMARY:Regular Monthly Meeting
DESCRIPTION:
URL:https://roguevalleylions.org/event/regular-monthly-meeting-2/2028-03-01/
LOCATION:Black Bear Diner\, 1150 E Barnett Rd.\, Medford\, OR\, 97504\, United States
END:VEVENT
BEGIN:VEVENT
DTSTART;TZID=America/Los_Angeles:20280315T180000
DTEND;TZID=America/Los_Angeles:20280315T200000
DTSTAMP:20260420T122805
CREATED:20260303T034001Z
LAST-MODIFIED:20260305T200221Z
UID:10001357-1836756000-1836763200@roguevalleylions.org
SUMMARY:Regular Monthly Meeting
DESCRIPTION:
URL:https://roguevalleylions.org/event/regular-monthly-meeting/2028-03-15/
LOCATION:Black Bear Diner\, 1150 E Barnett Rd.\, Medford\, OR\, 97504\, United States
END:VEVENT
BEGIN:VEVENT
DTSTART;TZID=America/Los_Angeles:20280330T103000
DTEND;TZID=America/Los_Angeles:20280330T123000
DTSTAMP:20260420T122805
CREATED:20260225T215619Z
LAST-MODIFIED:20260303T023647Z
UID:10000946-1838025000-1838032200@roguevalleylions.org
SUMMARY:Sight and Hearing Center Monthly Board Meeting
DESCRIPTION:
URL:https://roguevalleylions.org/event/sight-and-hearing-center-monthly-board-meeting/2028-03-30/
LOCATION:Southern Oregon Lions Sight and Hearing Center\, 228 N. Holly St.\,\, Medford\, OR\, 97501\, United States
END:VEVENT
BEGIN:VEVENT
DTSTART;TZID=America/Los_Angeles:20280405T180000
DTEND;TZID=America/Los_Angeles:20280405T200000
DTSTAMP:20260420T122805
CREATED:20260303T034254Z
LAST-MODIFIED:20260303T034716Z
UID:10001298-1838570400-1838577600@roguevalleylions.org
SUMMARY:Regular Monthly Meeting
DESCRIPTION:
URL:https://roguevalleylions.org/event/regular-monthly-meeting-2/2028-04-05/
LOCATION:Black Bear Diner\, 1150 E Barnett Rd.\, Medford\, OR\, 97504\, United States
END:VEVENT
BEGIN:VEVENT
DTSTART;TZID=America/Los_Angeles:20280419T180000
DTEND;TZID=America/Los_Angeles:20280419T200000
DTSTAMP:20260420T122805
CREATED:20260303T034001Z
LAST-MODIFIED:20260305T200221Z
UID:10001358-1839780000-1839787200@roguevalleylions.org
SUMMARY:Regular Monthly Meeting
DESCRIPTION:
URL:https://roguevalleylions.org/event/regular-monthly-meeting/2028-04-19/
LOCATION:Black Bear Diner\, 1150 E Barnett Rd.\, Medford\, OR\, 97504\, United States
END:VEVENT
BEGIN:VEVENT
DTSTART;TZID=America/Los_Angeles:20280427T103000
DTEND;TZID=America/Los_Angeles:20280427T123000
DTSTAMP:20260420T122806
CREATED:20260225T215619Z
LAST-MODIFIED:20260303T023647Z
UID:10000947-1840444200-1840451400@roguevalleylions.org
SUMMARY:Sight and Hearing Center Monthly Board Meeting
DESCRIPTION:
URL:https://roguevalleylions.org/event/sight-and-hearing-center-monthly-board-meeting/2028-04-27/
LOCATION:Southern Oregon Lions Sight and Hearing Center\, 228 N. Holly St.\,\, Medford\, OR\, 97501\, United States
END:VEVENT
BEGIN:VEVENT
DTSTART;TZID=America/Los_Angeles:20280503T180000
DTEND;TZID=America/Los_Angeles:20280503T200000
DTSTAMP:20260420T122806
CREATED:20260303T034254Z
LAST-MODIFIED:20260303T034716Z
UID:10001299-1840989600-1840996800@roguevalleylions.org
SUMMARY:Regular Monthly Meeting
DESCRIPTION:
URL:https://roguevalleylions.org/event/regular-monthly-meeting-2/2028-05-03/
LOCATION:Black Bear Diner\, 1150 E Barnett Rd.\, Medford\, OR\, 97504\, United States
END:VEVENT
BEGIN:VEVENT
DTSTART;TZID=America/Los_Angeles:20280517T180000
DTEND;TZID=America/Los_Angeles:20280517T200000
DTSTAMP:20260420T122806
CREATED:20260303T034001Z
LAST-MODIFIED:20260305T200221Z
UID:10001359-1842199200-1842206400@roguevalleylions.org
SUMMARY:Regular Monthly Meeting
DESCRIPTION:
URL:https://roguevalleylions.org/event/regular-monthly-meeting/2028-05-17/
LOCATION:Black Bear Diner\, 1150 E Barnett Rd.\, Medford\, OR\, 97504\, United States
END:VEVENT
BEGIN:VEVENT
DTSTART;TZID=America/Los_Angeles:20280525T103000
DTEND;TZID=America/Los_Angeles:20280525T123000
DTSTAMP:20260420T122806
CREATED:20260225T215619Z
LAST-MODIFIED:20260303T023647Z
UID:10000948-1842863400-1842870600@roguevalleylions.org
SUMMARY:Sight and Hearing Center Monthly Board Meeting
DESCRIPTION:
URL:https://roguevalleylions.org/event/sight-and-hearing-center-monthly-board-meeting/2028-05-25/
LOCATION:Southern Oregon Lions Sight and Hearing Center\, 228 N. Holly St.\,\, Medford\, OR\, 97501\, United States
END:VEVENT
BEGIN:VEVENT
DTSTART;TZID=America/Los_Angeles:20280607T180000
DTEND;TZID=America/Los_Angeles:20280607T200000
DTSTAMP:20260420T122806
CREATED:20260303T034254Z
LAST-MODIFIED:20260303T034716Z
UID:10001300-1844013600-1844020800@roguevalleylions.org
SUMMARY:Regular Monthly Meeting
DESCRIPTION:
URL:https://roguevalleylions.org/event/regular-monthly-meeting-2/2028-06-07/
LOCATION:Black Bear Diner\, 1150 E Barnett Rd.\, Medford\, OR\, 97504\, United States
END:VEVENT
BEGIN:VEVENT
DTSTART;TZID=America/Los_Angeles:20280621T180000
DTEND;TZID=America/Los_Angeles:20280621T200000
DTSTAMP:20260420T122806
CREATED:20260303T034001Z
LAST-MODIFIED:20260305T200221Z
UID:10001360-1845223200-1845230400@roguevalleylions.org
SUMMARY:Regular Monthly Meeting
DESCRIPTION:
URL:https://roguevalleylions.org/event/regular-monthly-meeting/2028-06-21/
LOCATION:Black Bear Diner\, 1150 E Barnett Rd.\, Medford\, OR\, 97504\, United States
END:VEVENT
BEGIN:VEVENT
DTSTART;TZID=America/Los_Angeles:20280629T103000
DTEND;TZID=America/Los_Angeles:20280629T123000
DTSTAMP:20260420T122806
CREATED:20260225T215619Z
LAST-MODIFIED:20260303T023647Z
UID:10000949-1845887400-1845894600@roguevalleylions.org
SUMMARY:Sight and Hearing Center Monthly Board Meeting
DESCRIPTION:
URL:https://roguevalleylions.org/event/sight-and-hearing-center-monthly-board-meeting/2028-06-29/
LOCATION:Southern Oregon Lions Sight and Hearing Center\, 228 N. Holly St.\,\, Medford\, OR\, 97501\, United States
END:VEVENT
BEGIN:VEVENT
DTSTART;TZID=America/Los_Angeles:20280705T180000
DTEND;TZID=America/Los_Angeles:20280705T200000
DTSTAMP:20260420T122806
CREATED:20260303T034254Z
LAST-MODIFIED:20260303T034716Z
UID:10001301-1846432800-1846440000@roguevalleylions.org
SUMMARY:Regular Monthly Meeting
DESCRIPTION:
URL:https://roguevalleylions.org/event/regular-monthly-meeting-2/2028-07-05/
LOCATION:Black Bear Diner\, 1150 E Barnett Rd.\, Medford\, OR\, 97504\, United States
END:VEVENT
BEGIN:VEVENT
DTSTART;TZID=America/Los_Angeles:20280719T180000
DTEND;TZID=America/Los_Angeles:20280719T200000
DTSTAMP:20260420T122806
CREATED:20260303T034001Z
LAST-MODIFIED:20260305T200221Z
UID:10001361-1847642400-1847649600@roguevalleylions.org
SUMMARY:Regular Monthly Meeting
DESCRIPTION:
URL:https://roguevalleylions.org/event/regular-monthly-meeting/2028-07-19/
LOCATION:Black Bear Diner\, 1150 E Barnett Rd.\, Medford\, OR\, 97504\, United States
END:VEVENT
BEGIN:VEVENT
DTSTART;TZID=America/Los_Angeles:20280727T103000
DTEND;TZID=America/Los_Angeles:20280727T123000
DTSTAMP:20260420T122806
CREATED:20260225T215619Z
LAST-MODIFIED:20260303T023647Z
UID:10000950-1848306600-1848313800@roguevalleylions.org
SUMMARY:Sight and Hearing Center Monthly Board Meeting
DESCRIPTION:
URL:https://roguevalleylions.org/event/sight-and-hearing-center-monthly-board-meeting/2028-07-27/
LOCATION:Southern Oregon Lions Sight and Hearing Center\, 228 N. Holly St.\,\, Medford\, OR\, 97501\, United States
END:VEVENT
BEGIN:VEVENT
DTSTART;TZID=America/Los_Angeles:20280802T180000
DTEND;TZID=America/Los_Angeles:20280802T200000
DTSTAMP:20260420T122806
CREATED:20260303T034254Z
LAST-MODIFIED:20260303T034716Z
UID:10001302-1848852000-1848859200@roguevalleylions.org
SUMMARY:Regular Monthly Meeting
DESCRIPTION:
URL:https://roguevalleylions.org/event/regular-monthly-meeting-2/2028-08-02/
LOCATION:Black Bear Diner\, 1150 E Barnett Rd.\, Medford\, OR\, 97504\, United States
END:VEVENT
BEGIN:VEVENT
DTSTART;TZID=America/Los_Angeles:20280816T180000
DTEND;TZID=America/Los_Angeles:20280816T200000
DTSTAMP:20260420T122806
CREATED:20260303T034001Z
LAST-MODIFIED:20260305T200221Z
UID:10001362-1850061600-1850068800@roguevalleylions.org
SUMMARY:Regular Monthly Meeting
DESCRIPTION:
URL:https://roguevalleylions.org/event/regular-monthly-meeting/2028-08-16/
LOCATION:Black Bear Diner\, 1150 E Barnett Rd.\, Medford\, OR\, 97504\, United States
END:VEVENT
BEGIN:VEVENT
DTSTART;TZID=America/Los_Angeles:20280831T103000
DTEND;TZID=America/Los_Angeles:20280831T123000
DTSTAMP:20260420T122806
CREATED:20260225T215619Z
LAST-MODIFIED:20260303T023647Z
UID:10000951-1851330600-1851337800@roguevalleylions.org
SUMMARY:Sight and Hearing Center Monthly Board Meeting
DESCRIPTION:
URL:https://roguevalleylions.org/event/sight-and-hearing-center-monthly-board-meeting/2028-08-31/
LOCATION:Southern Oregon Lions Sight and Hearing Center\, 228 N. Holly St.\,\, Medford\, OR\, 97501\, United States
END:VEVENT
BEGIN:VEVENT
DTSTART;TZID=America/Los_Angeles:20280906T180000
DTEND;TZID=America/Los_Angeles:20280906T200000
DTSTAMP:20260420T122806
CREATED:20260303T034254Z
LAST-MODIFIED:20260303T034716Z
UID:10001303-1851876000-1851883200@roguevalleylions.org
SUMMARY:Regular Monthly Meeting
DESCRIPTION:
URL:https://roguevalleylions.org/event/regular-monthly-meeting-2/2028-09-06/
LOCATION:Black Bear Diner\, 1150 E Barnett Rd.\, Medford\, OR\, 97504\, United States
END:VEVENT
BEGIN:VEVENT
DTSTART;TZID=America/Los_Angeles:20280920T180000
DTEND;TZID=America/Los_Angeles:20280920T200000
DTSTAMP:20260420T122806
CREATED:20260303T034001Z
LAST-MODIFIED:20260305T200221Z
UID:10001363-1853085600-1853092800@roguevalleylions.org
SUMMARY:Regular Monthly Meeting
DESCRIPTION:
URL:https://roguevalleylions.org/event/regular-monthly-meeting/2028-09-20/
LOCATION:Black Bear Diner\, 1150 E Barnett Rd.\, Medford\, OR\, 97504\, United States
END:VEVENT
BEGIN:VEVENT
DTSTART;TZID=America/Los_Angeles:20280928T103000
DTEND;TZID=America/Los_Angeles:20280928T123000
DTSTAMP:20260420T122806
CREATED:20260225T215619Z
LAST-MODIFIED:20260303T023647Z
UID:10000952-1853749800-1853757000@roguevalleylions.org
SUMMARY:Sight and Hearing Center Monthly Board Meeting
DESCRIPTION:
URL:https://roguevalleylions.org/event/sight-and-hearing-center-monthly-board-meeting/2028-09-28/
LOCATION:Southern Oregon Lions Sight and Hearing Center\, 228 N. Holly St.\,\, Medford\, OR\, 97501\, United States
END:VEVENT
BEGIN:VEVENT
DTSTART;TZID=America/Los_Angeles:20281004T180000
DTEND;TZID=America/Los_Angeles:20281004T200000
DTSTAMP:20260420T122806
CREATED:20260303T034254Z
LAST-MODIFIED:20260303T034716Z
UID:10001304-1854295200-1854302400@roguevalleylions.org
SUMMARY:Regular Monthly Meeting
DESCRIPTION:
URL:https://roguevalleylions.org/event/regular-monthly-meeting-2/2028-10-04/
LOCATION:Black Bear Diner\, 1150 E Barnett Rd.\, Medford\, OR\, 97504\, United States
END:VEVENT
BEGIN:VEVENT
DTSTART;TZID=America/Los_Angeles:20281018T180000
DTEND;TZID=America/Los_Angeles:20281018T200000
DTSTAMP:20260420T122806
CREATED:20260303T034001Z
LAST-MODIFIED:20260305T200221Z
UID:10001364-1855504800-1855512000@roguevalleylions.org
SUMMARY:Regular Monthly Meeting
DESCRIPTION:
URL:https://roguevalleylions.org/event/regular-monthly-meeting/2028-10-18/
LOCATION:Black Bear Diner\, 1150 E Barnett Rd.\, Medford\, OR\, 97504\, United States
END:VEVENT
BEGIN:VEVENT
DTSTART;TZID=America/Los_Angeles:20281026T103000
DTEND;TZID=America/Los_Angeles:20281026T123000
DTSTAMP:20260420T122806
CREATED:20260225T215619Z
LAST-MODIFIED:20260303T023647Z
UID:10000953-1856169000-1856176200@roguevalleylions.org
SUMMARY:Sight and Hearing Center Monthly Board Meeting
DESCRIPTION:
URL:https://roguevalleylions.org/event/sight-and-hearing-center-monthly-board-meeting/2028-10-26/
LOCATION:Southern Oregon Lions Sight and Hearing Center\, 228 N. Holly St.\,\, Medford\, OR\, 97501\, United States
END:VEVENT
END:VCALENDAR