BEGIN:VCALENDAR
VERSION:2.0
PRODID:-//Rogue Valley Lions Club - ECPv6.15.20//NONSGML v1.0//EN
CALSCALE:GREGORIAN
METHOD:PUBLISH
X-WR-CALNAME:Rogue Valley Lions Club
X-ORIGINAL-URL:https://roguevalleylions.org
X-WR-CALDESC:Events for Rogue Valley Lions Club
REFRESH-INTERVAL;VALUE=DURATION:PT1H
X-Robots-Tag:noindex
X-PUBLISHED-TTL:PT1H
BEGIN:VTIMEZONE
TZID:America/Los_Angeles
BEGIN:DAYLIGHT
TZOFFSETFROM:-0800
TZOFFSETTO:-0700
TZNAME:PDT
DTSTART:20250309T100000
END:DAYLIGHT
BEGIN:STANDARD
TZOFFSETFROM:-0700
TZOFFSETTO:-0800
TZNAME:PST
DTSTART:20251102T090000
END:STANDARD
BEGIN:DAYLIGHT
TZOFFSETFROM:-0800
TZOFFSETTO:-0700
TZNAME:PDT
DTSTART:20260308T100000
END:DAYLIGHT
BEGIN:STANDARD
TZOFFSETFROM:-0700
TZOFFSETTO:-0800
TZNAME:PST
DTSTART:20261101T090000
END:STANDARD
BEGIN:DAYLIGHT
TZOFFSETFROM:-0800
TZOFFSETTO:-0700
TZNAME:PDT
DTSTART:20270314T100000
END:DAYLIGHT
BEGIN:STANDARD
TZOFFSETFROM:-0700
TZOFFSETTO:-0800
TZNAME:PST
DTSTART:20271107T090000
END:STANDARD
END:VTIMEZONE
BEGIN:VEVENT
DTSTART;TZID=America/Los_Angeles:20260420T090000
DTEND;TZID=America/Los_Angeles:20260420T110000
DTSTAMP:20260419T123518
CREATED:20260312T170544Z
LAST-MODIFIED:20260312T170544Z
UID:10001402-1776675600-1776682800@roguevalleylions.org
SUMMARY:Jacksonville Elementary\, Art Show Set-up
DESCRIPTION:
URL:https://roguevalleylions.org/event/jacksonville-elementary-art-show-set-up/
LOCATION:Jacksonville Elementary School\, 655 Hueners Ln.\, Jacksonville\, OR\, 97530\, United States
END:VEVENT
BEGIN:VEVENT
DTSTART;TZID=America/Los_Angeles:20260423T173000
DTEND;TZID=America/Los_Angeles:20260423T183000
DTSTAMP:20260419T123518
CREATED:20260225T220548Z
LAST-MODIFIED:20260413T164432Z
UID:10000432-1776965400-1776969000@roguevalleylions.org
SUMMARY:Wine Walk Committee Meeting
DESCRIPTION:
URL:https://roguevalleylions.org/event/wine-walk-committee-meeting/
LOCATION:Local Vines\, 900 N. Haskell\, Central Point\, OR\, 97501\, United States
END:VEVENT
BEGIN:VEVENT
DTSTART;TZID=America/Los_Angeles:20260430T103000
DTEND;TZID=America/Los_Angeles:20260430T123000
DTSTAMP:20260419T123518
CREATED:20260225T215619Z
LAST-MODIFIED:20260303T023647Z
UID:10000923-1777545000-1777552200@roguevalleylions.org
SUMMARY:Sight and Hearing Center Monthly Board Meeting
DESCRIPTION:
URL:https://roguevalleylions.org/event/sight-and-hearing-center-monthly-board-meeting/2026-04-30/
LOCATION:Southern Oregon Lions Sight and Hearing Center\, 228 N. Holly St.\,\, Medford\, OR\, 97501\, United States
END:VEVENT
END:VCALENDAR