BEGIN:VCALENDAR
VERSION:2.0
PRODID:-//Rogue Valley Lions Club - ECPv6.15.20//NONSGML v1.0//EN
CALSCALE:GREGORIAN
METHOD:PUBLISH
X-ORIGINAL-URL:https://roguevalleylions.org
X-WR-CALDESC:Events for Rogue Valley Lions Club
REFRESH-INTERVAL;VALUE=DURATION:PT1H
X-Robots-Tag:noindex
X-PUBLISHED-TTL:PT1H
BEGIN:VTIMEZONE
TZID:America/Los_Angeles
BEGIN:DAYLIGHT
TZOFFSETFROM:-0800
TZOFFSETTO:-0700
TZNAME:PDT
DTSTART:20250309T100000
END:DAYLIGHT
BEGIN:STANDARD
TZOFFSETFROM:-0700
TZOFFSETTO:-0800
TZNAME:PST
DTSTART:20251102T090000
END:STANDARD
BEGIN:DAYLIGHT
TZOFFSETFROM:-0800
TZOFFSETTO:-0700
TZNAME:PDT
DTSTART:20260308T100000
END:DAYLIGHT
BEGIN:STANDARD
TZOFFSETFROM:-0700
TZOFFSETTO:-0800
TZNAME:PST
DTSTART:20261101T090000
END:STANDARD
BEGIN:DAYLIGHT
TZOFFSETFROM:-0800
TZOFFSETTO:-0700
TZNAME:PDT
DTSTART:20270314T100000
END:DAYLIGHT
BEGIN:STANDARD
TZOFFSETFROM:-0700
TZOFFSETTO:-0800
TZNAME:PST
DTSTART:20271107T090000
END:STANDARD
END:VTIMEZONE
BEGIN:VEVENT
DTSTART;TZID=America/Los_Angeles:20260308T090000
DTEND;TZID=America/Los_Angeles:20260308T120000
DTSTAMP:20260419T191441
CREATED:20260305T061306Z
LAST-MODIFIED:20260305T061518Z
UID:10001395-1772960400-1772971200@roguevalleylions.org
SUMMARY:Old Stage Road Cleanup
DESCRIPTION:Meet at Pony Expresso\, then join up on Old Stage Road
URL:https://roguevalleylions.org/event/old-stage-road-cleanup/
LOCATION:Pony Expresso\, 545 N. 5th St.\, Jacksonville\, OR\, 97530\, United States
END:VEVENT
END:VCALENDAR