BEGIN:VCALENDAR
VERSION:2.0
PRODID:-//Rogue Valley Lions Club - ECPv6.15.20//NONSGML v1.0//EN
CALSCALE:GREGORIAN
METHOD:PUBLISH
X-ORIGINAL-URL:https://roguevalleylions.org
X-WR-CALDESC:Events for Rogue Valley Lions Club
REFRESH-INTERVAL;VALUE=DURATION:PT1H
X-Robots-Tag:noindex
X-PUBLISHED-TTL:PT1H
BEGIN:VTIMEZONE
TZID:America/Los_Angeles
BEGIN:DAYLIGHT
TZOFFSETFROM:-0800
TZOFFSETTO:-0700
TZNAME:PDT
DTSTART:20260308T100000
END:DAYLIGHT
BEGIN:STANDARD
TZOFFSETFROM:-0700
TZOFFSETTO:-0800
TZNAME:PST
DTSTART:20261101T090000
END:STANDARD
BEGIN:DAYLIGHT
TZOFFSETFROM:-0800
TZOFFSETTO:-0700
TZNAME:PDT
DTSTART:20270314T100000
END:DAYLIGHT
BEGIN:STANDARD
TZOFFSETFROM:-0700
TZOFFSETTO:-0800
TZNAME:PST
DTSTART:20271107T090000
END:STANDARD
BEGIN:DAYLIGHT
TZOFFSETFROM:-0800
TZOFFSETTO:-0700
TZNAME:PDT
DTSTART:20280312T100000
END:DAYLIGHT
BEGIN:STANDARD
TZOFFSETFROM:-0700
TZOFFSETTO:-0800
TZNAME:PST
DTSTART:20281105T090000
END:STANDARD
BEGIN:DAYLIGHT
TZOFFSETFROM:-0800
TZOFFSETTO:-0700
TZNAME:PDT
DTSTART:20290311T100000
END:DAYLIGHT
BEGIN:STANDARD
TZOFFSETFROM:-0700
TZOFFSETTO:-0800
TZNAME:PST
DTSTART:20291104T090000
END:STANDARD
BEGIN:DAYLIGHT
TZOFFSETFROM:-0800
TZOFFSETTO:-0700
TZNAME:PDT
DTSTART:20300310T100000
END:DAYLIGHT
BEGIN:STANDARD
TZOFFSETFROM:-0700
TZOFFSETTO:-0800
TZNAME:PST
DTSTART:20301103T090000
END:STANDARD
END:VTIMEZONE
BEGIN:VEVENT
DTSTART;TZID=America/Los_Angeles:20270225T103000
DTEND;TZID=America/Los_Angeles:20270225T123000
DTSTAMP:20260419T125707
CREATED:20260225T215619Z
LAST-MODIFIED:20260303T023647Z
UID:10000933-1803551400-1803558600@roguevalleylions.org
SUMMARY:Sight and Hearing Center Monthly Board Meeting
DESCRIPTION:
URL:https://roguevalleylions.org/event/sight-and-hearing-center-monthly-board-meeting/2027-02-25/
LOCATION:Southern Oregon Lions Sight and Hearing Center\, 228 N. Holly St.\,\, Medford\, OR\, 97501\, United States
END:VEVENT
BEGIN:VEVENT
DTSTART;TZID=America/Los_Angeles:20270325T103000
DTEND;TZID=America/Los_Angeles:20270325T123000
DTSTAMP:20260419T125707
CREATED:20260225T215619Z
LAST-MODIFIED:20260303T023647Z
UID:10000934-1805970600-1805977800@roguevalleylions.org
SUMMARY:Sight and Hearing Center Monthly Board Meeting
DESCRIPTION:
URL:https://roguevalleylions.org/event/sight-and-hearing-center-monthly-board-meeting/2027-03-25/
LOCATION:Southern Oregon Lions Sight and Hearing Center\, 228 N. Holly St.\,\, Medford\, OR\, 97501\, United States
END:VEVENT
BEGIN:VEVENT
DTSTART;TZID=America/Los_Angeles:20270429T103000
DTEND;TZID=America/Los_Angeles:20270429T123000
DTSTAMP:20260419T125707
CREATED:20260225T215619Z
LAST-MODIFIED:20260303T023647Z
UID:10000935-1808994600-1809001800@roguevalleylions.org
SUMMARY:Sight and Hearing Center Monthly Board Meeting
DESCRIPTION:
URL:https://roguevalleylions.org/event/sight-and-hearing-center-monthly-board-meeting/2027-04-29/
LOCATION:Southern Oregon Lions Sight and Hearing Center\, 228 N. Holly St.\,\, Medford\, OR\, 97501\, United States
END:VEVENT
BEGIN:VEVENT
DTSTART;TZID=America/Los_Angeles:20270527T103000
DTEND;TZID=America/Los_Angeles:20270527T123000
DTSTAMP:20260419T125707
CREATED:20260225T215619Z
LAST-MODIFIED:20260303T023647Z
UID:10000936-1811413800-1811421000@roguevalleylions.org
SUMMARY:Sight and Hearing Center Monthly Board Meeting
DESCRIPTION:
URL:https://roguevalleylions.org/event/sight-and-hearing-center-monthly-board-meeting/2027-05-27/
LOCATION:Southern Oregon Lions Sight and Hearing Center\, 228 N. Holly St.\,\, Medford\, OR\, 97501\, United States
END:VEVENT
BEGIN:VEVENT
DTSTART;TZID=America/Los_Angeles:20270624T103000
DTEND;TZID=America/Los_Angeles:20270624T123000
DTSTAMP:20260419T125707
CREATED:20260225T215619Z
LAST-MODIFIED:20260303T023647Z
UID:10000937-1813833000-1813840200@roguevalleylions.org
SUMMARY:Sight and Hearing Center Monthly Board Meeting
DESCRIPTION:
URL:https://roguevalleylions.org/event/sight-and-hearing-center-monthly-board-meeting/2027-06-24/
LOCATION:Southern Oregon Lions Sight and Hearing Center\, 228 N. Holly St.\,\, Medford\, OR\, 97501\, United States
END:VEVENT
BEGIN:VEVENT
DTSTART;TZID=America/Los_Angeles:20270729T103000
DTEND;TZID=America/Los_Angeles:20270729T123000
DTSTAMP:20260419T125707
CREATED:20260225T215619Z
LAST-MODIFIED:20260303T023647Z
UID:10000938-1816857000-1816864200@roguevalleylions.org
SUMMARY:Sight and Hearing Center Monthly Board Meeting
DESCRIPTION:
URL:https://roguevalleylions.org/event/sight-and-hearing-center-monthly-board-meeting/2027-07-29/
LOCATION:Southern Oregon Lions Sight and Hearing Center\, 228 N. Holly St.\,\, Medford\, OR\, 97501\, United States
END:VEVENT
BEGIN:VEVENT
DTSTART;TZID=America/Los_Angeles:20270826T103000
DTEND;TZID=America/Los_Angeles:20270826T123000
DTSTAMP:20260419T125707
CREATED:20260225T215619Z
LAST-MODIFIED:20260303T023647Z
UID:10000939-1819276200-1819283400@roguevalleylions.org
SUMMARY:Sight and Hearing Center Monthly Board Meeting
DESCRIPTION:
URL:https://roguevalleylions.org/event/sight-and-hearing-center-monthly-board-meeting/2027-08-26/
LOCATION:Southern Oregon Lions Sight and Hearing Center\, 228 N. Holly St.\,\, Medford\, OR\, 97501\, United States
END:VEVENT
BEGIN:VEVENT
DTSTART;TZID=America/Los_Angeles:20270930T103000
DTEND;TZID=America/Los_Angeles:20270930T123000
DTSTAMP:20260419T125707
CREATED:20260225T215619Z
LAST-MODIFIED:20260303T023647Z
UID:10000940-1822300200-1822307400@roguevalleylions.org
SUMMARY:Sight and Hearing Center Monthly Board Meeting
DESCRIPTION:
URL:https://roguevalleylions.org/event/sight-and-hearing-center-monthly-board-meeting/2027-09-30/
LOCATION:Southern Oregon Lions Sight and Hearing Center\, 228 N. Holly St.\,\, Medford\, OR\, 97501\, United States
END:VEVENT
BEGIN:VEVENT
DTSTART;TZID=America/Los_Angeles:20271028T103000
DTEND;TZID=America/Los_Angeles:20271028T123000
DTSTAMP:20260419T125707
CREATED:20260225T215619Z
LAST-MODIFIED:20260303T023647Z
UID:10000941-1824719400-1824726600@roguevalleylions.org
SUMMARY:Sight and Hearing Center Monthly Board Meeting
DESCRIPTION:
URL:https://roguevalleylions.org/event/sight-and-hearing-center-monthly-board-meeting/2027-10-28/
LOCATION:Southern Oregon Lions Sight and Hearing Center\, 228 N. Holly St.\,\, Medford\, OR\, 97501\, United States
END:VEVENT
BEGIN:VEVENT
DTSTART;TZID=America/Los_Angeles:20271125T103000
DTEND;TZID=America/Los_Angeles:20271125T123000
DTSTAMP:20260419T125707
CREATED:20260225T215619Z
LAST-MODIFIED:20260303T023647Z
UID:10000942-1827138600-1827145800@roguevalleylions.org
SUMMARY:Sight and Hearing Center Monthly Board Meeting
DESCRIPTION:
URL:https://roguevalleylions.org/event/sight-and-hearing-center-monthly-board-meeting/2027-11-25/
LOCATION:Southern Oregon Lions Sight and Hearing Center\, 228 N. Holly St.\,\, Medford\, OR\, 97501\, United States
END:VEVENT
BEGIN:VEVENT
DTSTART;TZID=America/Los_Angeles:20271230T103000
DTEND;TZID=America/Los_Angeles:20271230T123000
DTSTAMP:20260419T125707
CREATED:20260225T215619Z
LAST-MODIFIED:20260303T023647Z
UID:10000943-1830162600-1830169800@roguevalleylions.org
SUMMARY:Sight and Hearing Center Monthly Board Meeting
DESCRIPTION:
URL:https://roguevalleylions.org/event/sight-and-hearing-center-monthly-board-meeting/2027-12-30/
LOCATION:Southern Oregon Lions Sight and Hearing Center\, 228 N. Holly St.\,\, Medford\, OR\, 97501\, United States
END:VEVENT
BEGIN:VEVENT
DTSTART;TZID=America/Los_Angeles:20280127T103000
DTEND;TZID=America/Los_Angeles:20280127T123000
DTSTAMP:20260419T125707
CREATED:20260225T215619Z
LAST-MODIFIED:20260303T023647Z
UID:10000944-1832581800-1832589000@roguevalleylions.org
SUMMARY:Sight and Hearing Center Monthly Board Meeting
DESCRIPTION:
URL:https://roguevalleylions.org/event/sight-and-hearing-center-monthly-board-meeting/2028-01-27/
LOCATION:Southern Oregon Lions Sight and Hearing Center\, 228 N. Holly St.\,\, Medford\, OR\, 97501\, United States
END:VEVENT
BEGIN:VEVENT
DTSTART;TZID=America/Los_Angeles:20280224T103000
DTEND;TZID=America/Los_Angeles:20280224T123000
DTSTAMP:20260419T125707
CREATED:20260225T215619Z
LAST-MODIFIED:20260303T023647Z
UID:10000945-1835001000-1835008200@roguevalleylions.org
SUMMARY:Sight and Hearing Center Monthly Board Meeting
DESCRIPTION:
URL:https://roguevalleylions.org/event/sight-and-hearing-center-monthly-board-meeting/2028-02-24/
LOCATION:Southern Oregon Lions Sight and Hearing Center\, 228 N. Holly St.\,\, Medford\, OR\, 97501\, United States
END:VEVENT
BEGIN:VEVENT
DTSTART;TZID=America/Los_Angeles:20280330T103000
DTEND;TZID=America/Los_Angeles:20280330T123000
DTSTAMP:20260419T125707
CREATED:20260225T215619Z
LAST-MODIFIED:20260303T023647Z
UID:10000946-1838025000-1838032200@roguevalleylions.org
SUMMARY:Sight and Hearing Center Monthly Board Meeting
DESCRIPTION:
URL:https://roguevalleylions.org/event/sight-and-hearing-center-monthly-board-meeting/2028-03-30/
LOCATION:Southern Oregon Lions Sight and Hearing Center\, 228 N. Holly St.\,\, Medford\, OR\, 97501\, United States
END:VEVENT
BEGIN:VEVENT
DTSTART;TZID=America/Los_Angeles:20280427T103000
DTEND;TZID=America/Los_Angeles:20280427T123000
DTSTAMP:20260419T125707
CREATED:20260225T215619Z
LAST-MODIFIED:20260303T023647Z
UID:10000947-1840444200-1840451400@roguevalleylions.org
SUMMARY:Sight and Hearing Center Monthly Board Meeting
DESCRIPTION:
URL:https://roguevalleylions.org/event/sight-and-hearing-center-monthly-board-meeting/2028-04-27/
LOCATION:Southern Oregon Lions Sight and Hearing Center\, 228 N. Holly St.\,\, Medford\, OR\, 97501\, United States
END:VEVENT
BEGIN:VEVENT
DTSTART;TZID=America/Los_Angeles:20280525T103000
DTEND;TZID=America/Los_Angeles:20280525T123000
DTSTAMP:20260419T125707
CREATED:20260225T215619Z
LAST-MODIFIED:20260303T023647Z
UID:10000948-1842863400-1842870600@roguevalleylions.org
SUMMARY:Sight and Hearing Center Monthly Board Meeting
DESCRIPTION:
URL:https://roguevalleylions.org/event/sight-and-hearing-center-monthly-board-meeting/2028-05-25/
LOCATION:Southern Oregon Lions Sight and Hearing Center\, 228 N. Holly St.\,\, Medford\, OR\, 97501\, United States
END:VEVENT
BEGIN:VEVENT
DTSTART;TZID=America/Los_Angeles:20280629T103000
DTEND;TZID=America/Los_Angeles:20280629T123000
DTSTAMP:20260419T125707
CREATED:20260225T215619Z
LAST-MODIFIED:20260303T023647Z
UID:10000949-1845887400-1845894600@roguevalleylions.org
SUMMARY:Sight and Hearing Center Monthly Board Meeting
DESCRIPTION:
URL:https://roguevalleylions.org/event/sight-and-hearing-center-monthly-board-meeting/2028-06-29/
LOCATION:Southern Oregon Lions Sight and Hearing Center\, 228 N. Holly St.\,\, Medford\, OR\, 97501\, United States
END:VEVENT
BEGIN:VEVENT
DTSTART;TZID=America/Los_Angeles:20280727T103000
DTEND;TZID=America/Los_Angeles:20280727T123000
DTSTAMP:20260419T125707
CREATED:20260225T215619Z
LAST-MODIFIED:20260303T023647Z
UID:10000950-1848306600-1848313800@roguevalleylions.org
SUMMARY:Sight and Hearing Center Monthly Board Meeting
DESCRIPTION:
URL:https://roguevalleylions.org/event/sight-and-hearing-center-monthly-board-meeting/2028-07-27/
LOCATION:Southern Oregon Lions Sight and Hearing Center\, 228 N. Holly St.\,\, Medford\, OR\, 97501\, United States
END:VEVENT
BEGIN:VEVENT
DTSTART;TZID=America/Los_Angeles:20280831T103000
DTEND;TZID=America/Los_Angeles:20280831T123000
DTSTAMP:20260419T125707
CREATED:20260225T215619Z
LAST-MODIFIED:20260303T023647Z
UID:10000951-1851330600-1851337800@roguevalleylions.org
SUMMARY:Sight and Hearing Center Monthly Board Meeting
DESCRIPTION:
URL:https://roguevalleylions.org/event/sight-and-hearing-center-monthly-board-meeting/2028-08-31/
LOCATION:Southern Oregon Lions Sight and Hearing Center\, 228 N. Holly St.\,\, Medford\, OR\, 97501\, United States
END:VEVENT
BEGIN:VEVENT
DTSTART;TZID=America/Los_Angeles:20280928T103000
DTEND;TZID=America/Los_Angeles:20280928T123000
DTSTAMP:20260419T125707
CREATED:20260225T215619Z
LAST-MODIFIED:20260303T023647Z
UID:10000952-1853749800-1853757000@roguevalleylions.org
SUMMARY:Sight and Hearing Center Monthly Board Meeting
DESCRIPTION:
URL:https://roguevalleylions.org/event/sight-and-hearing-center-monthly-board-meeting/2028-09-28/
LOCATION:Southern Oregon Lions Sight and Hearing Center\, 228 N. Holly St.\,\, Medford\, OR\, 97501\, United States
END:VEVENT
BEGIN:VEVENT
DTSTART;TZID=America/Los_Angeles:20281026T103000
DTEND;TZID=America/Los_Angeles:20281026T123000
DTSTAMP:20260419T125707
CREATED:20260225T215619Z
LAST-MODIFIED:20260303T023647Z
UID:10000953-1856169000-1856176200@roguevalleylions.org
SUMMARY:Sight and Hearing Center Monthly Board Meeting
DESCRIPTION:
URL:https://roguevalleylions.org/event/sight-and-hearing-center-monthly-board-meeting/2028-10-26/
LOCATION:Southern Oregon Lions Sight and Hearing Center\, 228 N. Holly St.\,\, Medford\, OR\, 97501\, United States
END:VEVENT
BEGIN:VEVENT
DTSTART;TZID=America/Los_Angeles:20281130T103000
DTEND;TZID=America/Los_Angeles:20281130T123000
DTSTAMP:20260419T125707
CREATED:20260225T215619Z
LAST-MODIFIED:20260303T023647Z
UID:10000954-1859193000-1859200200@roguevalleylions.org
SUMMARY:Sight and Hearing Center Monthly Board Meeting
DESCRIPTION:
URL:https://roguevalleylions.org/event/sight-and-hearing-center-monthly-board-meeting/2028-11-30/
LOCATION:Southern Oregon Lions Sight and Hearing Center\, 228 N. Holly St.\,\, Medford\, OR\, 97501\, United States
END:VEVENT
BEGIN:VEVENT
DTSTART;TZID=America/Los_Angeles:20281228T103000
DTEND;TZID=America/Los_Angeles:20281228T123000
DTSTAMP:20260419T125707
CREATED:20260225T215619Z
LAST-MODIFIED:20260303T023647Z
UID:10000955-1861612200-1861619400@roguevalleylions.org
SUMMARY:Sight and Hearing Center Monthly Board Meeting
DESCRIPTION:
URL:https://roguevalleylions.org/event/sight-and-hearing-center-monthly-board-meeting/2028-12-28/
LOCATION:Southern Oregon Lions Sight and Hearing Center\, 228 N. Holly St.\,\, Medford\, OR\, 97501\, United States
END:VEVENT
BEGIN:VEVENT
DTSTART;TZID=America/Los_Angeles:20290125T103000
DTEND;TZID=America/Los_Angeles:20290125T123000
DTSTAMP:20260419T125707
CREATED:20260225T215619Z
LAST-MODIFIED:20260303T023647Z
UID:10000956-1864031400-1864038600@roguevalleylions.org
SUMMARY:Sight and Hearing Center Monthly Board Meeting
DESCRIPTION:
URL:https://roguevalleylions.org/event/sight-and-hearing-center-monthly-board-meeting/2029-01-25/
LOCATION:Southern Oregon Lions Sight and Hearing Center\, 228 N. Holly St.\,\, Medford\, OR\, 97501\, United States
END:VEVENT
BEGIN:VEVENT
DTSTART;TZID=America/Los_Angeles:20290222T103000
DTEND;TZID=America/Los_Angeles:20290222T123000
DTSTAMP:20260419T125707
CREATED:20260225T215619Z
LAST-MODIFIED:20260303T023647Z
UID:10000957-1866450600-1866457800@roguevalleylions.org
SUMMARY:Sight and Hearing Center Monthly Board Meeting
DESCRIPTION:
URL:https://roguevalleylions.org/event/sight-and-hearing-center-monthly-board-meeting/2029-02-22/
LOCATION:Southern Oregon Lions Sight and Hearing Center\, 228 N. Holly St.\,\, Medford\, OR\, 97501\, United States
END:VEVENT
BEGIN:VEVENT
DTSTART;TZID=America/Los_Angeles:20290329T103000
DTEND;TZID=America/Los_Angeles:20290329T123000
DTSTAMP:20260419T125707
CREATED:20260225T215619Z
LAST-MODIFIED:20260303T023647Z
UID:10000958-1869474600-1869481800@roguevalleylions.org
SUMMARY:Sight and Hearing Center Monthly Board Meeting
DESCRIPTION:
URL:https://roguevalleylions.org/event/sight-and-hearing-center-monthly-board-meeting/2029-03-29/
LOCATION:Southern Oregon Lions Sight and Hearing Center\, 228 N. Holly St.\,\, Medford\, OR\, 97501\, United States
END:VEVENT
BEGIN:VEVENT
DTSTART;TZID=America/Los_Angeles:20290426T103000
DTEND;TZID=America/Los_Angeles:20290426T123000
DTSTAMP:20260419T125707
CREATED:20260225T215619Z
LAST-MODIFIED:20260303T023647Z
UID:10000959-1871893800-1871901000@roguevalleylions.org
SUMMARY:Sight and Hearing Center Monthly Board Meeting
DESCRIPTION:
URL:https://roguevalleylions.org/event/sight-and-hearing-center-monthly-board-meeting/2029-04-26/
LOCATION:Southern Oregon Lions Sight and Hearing Center\, 228 N. Holly St.\,\, Medford\, OR\, 97501\, United States
END:VEVENT
BEGIN:VEVENT
DTSTART;TZID=America/Los_Angeles:20290531T103000
DTEND;TZID=America/Los_Angeles:20290531T123000
DTSTAMP:20260419T125707
CREATED:20260225T215619Z
LAST-MODIFIED:20260303T023647Z
UID:10000960-1874917800-1874925000@roguevalleylions.org
SUMMARY:Sight and Hearing Center Monthly Board Meeting
DESCRIPTION:
URL:https://roguevalleylions.org/event/sight-and-hearing-center-monthly-board-meeting/2029-05-31/
LOCATION:Southern Oregon Lions Sight and Hearing Center\, 228 N. Holly St.\,\, Medford\, OR\, 97501\, United States
END:VEVENT
BEGIN:VEVENT
DTSTART;TZID=America/Los_Angeles:20290628T103000
DTEND;TZID=America/Los_Angeles:20290628T123000
DTSTAMP:20260419T125707
CREATED:20260225T215619Z
LAST-MODIFIED:20260303T023647Z
UID:10000961-1877337000-1877344200@roguevalleylions.org
SUMMARY:Sight and Hearing Center Monthly Board Meeting
DESCRIPTION:
URL:https://roguevalleylions.org/event/sight-and-hearing-center-monthly-board-meeting/2029-06-28/
LOCATION:Southern Oregon Lions Sight and Hearing Center\, 228 N. Holly St.\,\, Medford\, OR\, 97501\, United States
END:VEVENT
BEGIN:VEVENT
DTSTART;TZID=America/Los_Angeles:20290726T103000
DTEND;TZID=America/Los_Angeles:20290726T123000
DTSTAMP:20260419T125707
CREATED:20260225T215619Z
LAST-MODIFIED:20260303T023647Z
UID:10000962-1879756200-1879763400@roguevalleylions.org
SUMMARY:Sight and Hearing Center Monthly Board Meeting
DESCRIPTION:
URL:https://roguevalleylions.org/event/sight-and-hearing-center-monthly-board-meeting/2029-07-26/
LOCATION:Southern Oregon Lions Sight and Hearing Center\, 228 N. Holly St.\,\, Medford\, OR\, 97501\, United States
END:VEVENT
END:VCALENDAR