BEGIN:VCALENDAR
VERSION:2.0
PRODID:-//Rogue Valley Lions Club - ECPv6.15.20//NONSGML v1.0//EN
CALSCALE:GREGORIAN
METHOD:PUBLISH
X-ORIGINAL-URL:https://roguevalleylions.org
X-WR-CALDESC:Events for Rogue Valley Lions Club
REFRESH-INTERVAL;VALUE=DURATION:PT1H
X-Robots-Tag:noindex
X-PUBLISHED-TTL:PT1H
BEGIN:VTIMEZONE
TZID:America/Los_Angeles
BEGIN:DAYLIGHT
TZOFFSETFROM:-0800
TZOFFSETTO:-0700
TZNAME:PDT
DTSTART:20290311T100000
END:DAYLIGHT
BEGIN:STANDARD
TZOFFSETFROM:-0700
TZOFFSETTO:-0800
TZNAME:PST
DTSTART:20291104T090000
END:STANDARD
BEGIN:DAYLIGHT
TZOFFSETFROM:-0800
TZOFFSETTO:-0700
TZNAME:PDT
DTSTART:20300310T100000
END:DAYLIGHT
BEGIN:STANDARD
TZOFFSETFROM:-0700
TZOFFSETTO:-0800
TZNAME:PST
DTSTART:20301103T090000
END:STANDARD
BEGIN:DAYLIGHT
TZOFFSETFROM:-0800
TZOFFSETTO:-0700
TZNAME:PDT
DTSTART:20310309T100000
END:DAYLIGHT
BEGIN:STANDARD
TZOFFSETFROM:-0700
TZOFFSETTO:-0800
TZNAME:PST
DTSTART:20311102T090000
END:STANDARD
BEGIN:DAYLIGHT
TZOFFSETFROM:-0800
TZOFFSETTO:-0700
TZNAME:PDT
DTSTART:20320314T100000
END:DAYLIGHT
BEGIN:STANDARD
TZOFFSETFROM:-0700
TZOFFSETTO:-0800
TZNAME:PST
DTSTART:20321107T090000
END:STANDARD
END:VTIMEZONE
BEGIN:VEVENT
DTSTART;TZID=America/Los_Angeles:20300627T103000
DTEND;TZID=America/Los_Angeles:20300627T123000
DTSTAMP:20260419T200258
CREATED:20260225T215619Z
LAST-MODIFIED:20260303T023647Z
UID:10000973-1908786600-1908793800@roguevalleylions.org
SUMMARY:Sight and Hearing Center Monthly Board Meeting
DESCRIPTION:
URL:https://roguevalleylions.org/event/sight-and-hearing-center-monthly-board-meeting/2030-06-27/
LOCATION:Southern Oregon Lions Sight and Hearing Center\, 228 N. Holly St.\,\, Medford\, OR\, 97501\, United States
END:VEVENT
BEGIN:VEVENT
DTSTART;TZID=America/Los_Angeles:20300725T103000
DTEND;TZID=America/Los_Angeles:20300725T123000
DTSTAMP:20260419T200258
CREATED:20260225T215619Z
LAST-MODIFIED:20260303T023647Z
UID:10000974-1911205800-1911213000@roguevalleylions.org
SUMMARY:Sight and Hearing Center Monthly Board Meeting
DESCRIPTION:
URL:https://roguevalleylions.org/event/sight-and-hearing-center-monthly-board-meeting/2030-07-25/
LOCATION:Southern Oregon Lions Sight and Hearing Center\, 228 N. Holly St.\,\, Medford\, OR\, 97501\, United States
END:VEVENT
BEGIN:VEVENT
DTSTART;TZID=America/Los_Angeles:20300829T103000
DTEND;TZID=America/Los_Angeles:20300829T123000
DTSTAMP:20260419T200258
CREATED:20260225T215619Z
LAST-MODIFIED:20260303T023647Z
UID:10000975-1914229800-1914237000@roguevalleylions.org
SUMMARY:Sight and Hearing Center Monthly Board Meeting
DESCRIPTION:
URL:https://roguevalleylions.org/event/sight-and-hearing-center-monthly-board-meeting/2030-08-29/
LOCATION:Southern Oregon Lions Sight and Hearing Center\, 228 N. Holly St.\,\, Medford\, OR\, 97501\, United States
END:VEVENT
BEGIN:VEVENT
DTSTART;TZID=America/Los_Angeles:20300926T103000
DTEND;TZID=America/Los_Angeles:20300926T123000
DTSTAMP:20260419T200258
CREATED:20260225T215619Z
LAST-MODIFIED:20260303T023647Z
UID:10000976-1916649000-1916656200@roguevalleylions.org
SUMMARY:Sight and Hearing Center Monthly Board Meeting
DESCRIPTION:
URL:https://roguevalleylions.org/event/sight-and-hearing-center-monthly-board-meeting/2030-09-26/
LOCATION:Southern Oregon Lions Sight and Hearing Center\, 228 N. Holly St.\,\, Medford\, OR\, 97501\, United States
END:VEVENT
BEGIN:VEVENT
DTSTART;TZID=America/Los_Angeles:20301031T103000
DTEND;TZID=America/Los_Angeles:20301031T123000
DTSTAMP:20260419T200258
CREATED:20260225T215619Z
LAST-MODIFIED:20260303T023647Z
UID:10000977-1919673000-1919680200@roguevalleylions.org
SUMMARY:Sight and Hearing Center Monthly Board Meeting
DESCRIPTION:
URL:https://roguevalleylions.org/event/sight-and-hearing-center-monthly-board-meeting/2030-10-31/
LOCATION:Southern Oregon Lions Sight and Hearing Center\, 228 N. Holly St.\,\, Medford\, OR\, 97501\, United States
END:VEVENT
BEGIN:VEVENT
DTSTART;TZID=America/Los_Angeles:20301128T103000
DTEND;TZID=America/Los_Angeles:20301128T123000
DTSTAMP:20260419T200258
CREATED:20260225T215619Z
LAST-MODIFIED:20260303T023647Z
UID:10000978-1922092200-1922099400@roguevalleylions.org
SUMMARY:Sight and Hearing Center Monthly Board Meeting
DESCRIPTION:
URL:https://roguevalleylions.org/event/sight-and-hearing-center-monthly-board-meeting/2030-11-28/
LOCATION:Southern Oregon Lions Sight and Hearing Center\, 228 N. Holly St.\,\, Medford\, OR\, 97501\, United States
END:VEVENT
BEGIN:VEVENT
DTSTART;TZID=America/Los_Angeles:20301226T103000
DTEND;TZID=America/Los_Angeles:20301226T123000
DTSTAMP:20260419T200258
CREATED:20260225T215619Z
LAST-MODIFIED:20260303T023647Z
UID:10000979-1924511400-1924518600@roguevalleylions.org
SUMMARY:Sight and Hearing Center Monthly Board Meeting
DESCRIPTION:
URL:https://roguevalleylions.org/event/sight-and-hearing-center-monthly-board-meeting/2030-12-26/
LOCATION:Southern Oregon Lions Sight and Hearing Center\, 228 N. Holly St.\,\, Medford\, OR\, 97501\, United States
END:VEVENT
BEGIN:VEVENT
DTSTART;TZID=America/Los_Angeles:20310130T103000
DTEND;TZID=America/Los_Angeles:20310130T123000
DTSTAMP:20260419T200258
CREATED:20260225T215619Z
LAST-MODIFIED:20260303T023647Z
UID:10000980-1927535400-1927542600@roguevalleylions.org
SUMMARY:Sight and Hearing Center Monthly Board Meeting
DESCRIPTION:
URL:https://roguevalleylions.org/event/sight-and-hearing-center-monthly-board-meeting/2031-01-30/
LOCATION:Southern Oregon Lions Sight and Hearing Center\, 228 N. Holly St.\,\, Medford\, OR\, 97501\, United States
END:VEVENT
BEGIN:VEVENT
DTSTART;TZID=America/Los_Angeles:20310227T103000
DTEND;TZID=America/Los_Angeles:20310227T123000
DTSTAMP:20260419T200258
CREATED:20260225T215619Z
LAST-MODIFIED:20260303T023647Z
UID:10000981-1929954600-1929961800@roguevalleylions.org
SUMMARY:Sight and Hearing Center Monthly Board Meeting
DESCRIPTION:
URL:https://roguevalleylions.org/event/sight-and-hearing-center-monthly-board-meeting/2031-02-27/
LOCATION:Southern Oregon Lions Sight and Hearing Center\, 228 N. Holly St.\,\, Medford\, OR\, 97501\, United States
END:VEVENT
END:VCALENDAR